BEGIN:VCALENDAR
VERSION:2.0
PRODID:-//The Local Hub - ECPv6.15.18//NONSGML v1.0//EN
CALSCALE:GREGORIAN
METHOD:PUBLISH
X-WR-CALNAME:The Local Hub
X-ORIGINAL-URL:https://thelocalhub-ic.com
X-WR-CALDESC:Events for The Local Hub
REFRESH-INTERVAL;VALUE=DURATION:PT1H
X-Robots-Tag:noindex
X-PUBLISHED-TTL:PT1H
BEGIN:VTIMEZONE
TZID:America/Chicago
BEGIN:DAYLIGHT
TZOFFSETFROM:-0600
TZOFFSETTO:-0500
TZNAME:CDT
DTSTART:20240310T080000
END:DAYLIGHT
BEGIN:STANDARD
TZOFFSETFROM:-0500
TZOFFSETTO:-0600
TZNAME:CST
DTSTART:20241103T070000
END:STANDARD
BEGIN:DAYLIGHT
TZOFFSETFROM:-0600
TZOFFSETTO:-0500
TZNAME:CDT
DTSTART:20250309T080000
END:DAYLIGHT
BEGIN:STANDARD
TZOFFSETFROM:-0500
TZOFFSETTO:-0600
TZNAME:CST
DTSTART:20251102T070000
END:STANDARD
BEGIN:DAYLIGHT
TZOFFSETFROM:-0600
TZOFFSETTO:-0500
TZNAME:CDT
DTSTART:20260308T080000
END:DAYLIGHT
BEGIN:STANDARD
TZOFFSETFROM:-0500
TZOFFSETTO:-0600
TZNAME:CST
DTSTART:20261101T070000
END:STANDARD
END:VTIMEZONE
BEGIN:VEVENT
DTSTART;TZID=America/Chicago:20251019T140000
DTEND;TZID=America/Chicago:20251019T160000
DTSTAMP:20260423T230159
CREATED:20250909T144215Z
LAST-MODIFIED:20250909T144215Z
UID:10002924-1760882400-1760889600@thelocalhub-ic.com
SUMMARY:Johnson County’s Largest Trunk-Or-Treat
DESCRIPTION:Join us for a spooktacular afternoon at Trunk or Treat 2025! The biggest family-friendly Halloween celebration in Johnson County!\n\nDate: Sunday\, October 19\, 2025Time: 2–4 PMLocation: Von Maur Parking Lot\, Iowa River Landing in Coralville\, IA\n\n What to expect:-Dozens of local businesses with creatively decorated trunks-Candy\, games\, and activities for kids of all ages-A safe\, festive\, and fun space for families to celebrate Halloween together\n\nLast year’s event drew nearly 3\,000 kids/adults + 45 businesses participated! Bring your costumes\, grab your treat bags\, and get ready for a frightfully fun afternoon! This event is FREE to attend and open to the public. Costumes are highly encouraged!
URL:https://thelocalhub-ic.com/event/johnson-countys-largest-trunk-or-treat/
LOCATION:Iowa River Landing\, 801 E 2nd Ave\, Coralville\, Iowa\, 52241\, United States
CATEGORIES:Family,Free
ATTACH;FMTTYPE=image/png:https://thelocalhub-ic.com/wp-content/uploads/2025/09/Trunk-Or-Treat_The-Local-Hub_Iowa-River-Landing_Iowa-City_Halloween_Trick-Or-Treat.png
END:VEVENT
BEGIN:VEVENT
DTSTART;TZID=America/Chicago:20250925T160000
DTEND;TZID=America/Chicago:20250925T190000
DTSTAMP:20260423T230159
CREATED:20250909T142613Z
LAST-MODIFIED:20250909T142613Z
UID:10002917-1758816000-1758826800@thelocalhub-ic.com
SUMMARY:Networking on the Rocks - Hosted By The Local Collective
DESCRIPTION:Join us for an evening of connection\, conversation\, and community at Networking on the Rocks! This is your chance to network with other incredible business owners and professionals while experiencing the stunning space at Vice Iowa City.\n\nWhen: Thursday\, September 25th | 4-7 PMWhere: Vice Iowa City (312 E Prentiss St\, Iowa City\, IA 52240)\n\nWhat to Expect:•Light appetizers + a variety of adult beverages•Shopping opportunities inside Vice•A Special Announcement at 5 PM (you won’t want to miss it!)•A welcoming atmosphere to grow your local connections•Pro tip!!! Arrive early to allow for parking.\n\nSpace is limited\, so RSVP today to secure your spot! https://tinyurl.com/networkingontherocks
URL:https://thelocalhub-ic.com/event/networking-on-the-rocks-hosted-by-the-local-collective/
CATEGORIES:Free,Networking
ATTACH;FMTTYPE=image/png:https://thelocalhub-ic.com/wp-content/uploads/2025/09/Networking-On-The-Rocks_The-Local-Hub_The-Local-Collective_Iowa-City_Networking.png
END:VEVENT
END:VCALENDAR