BEGIN:VCALENDAR
VERSION:2.0
PRODID:-//The Local Hub - ECPv6.15.18//NONSGML v1.0//EN
CALSCALE:GREGORIAN
METHOD:PUBLISH
X-WR-CALNAME:The Local Hub
X-ORIGINAL-URL:https://thelocalhub-ic.com
X-WR-CALDESC:Events for The Local Hub
REFRESH-INTERVAL;VALUE=DURATION:PT1H
X-Robots-Tag:noindex
X-PUBLISHED-TTL:PT1H
BEGIN:VTIMEZONE
TZID:America/Chicago
BEGIN:DAYLIGHT
TZOFFSETFROM:-0600
TZOFFSETTO:-0500
TZNAME:CDT
DTSTART:20230312T080000
END:DAYLIGHT
BEGIN:STANDARD
TZOFFSETFROM:-0500
TZOFFSETTO:-0600
TZNAME:CST
DTSTART:20231105T070000
END:STANDARD
BEGIN:DAYLIGHT
TZOFFSETFROM:-0600
TZOFFSETTO:-0500
TZNAME:CDT
DTSTART:20240310T080000
END:DAYLIGHT
BEGIN:STANDARD
TZOFFSETFROM:-0500
TZOFFSETTO:-0600
TZNAME:CST
DTSTART:20241103T070000
END:STANDARD
BEGIN:DAYLIGHT
TZOFFSETFROM:-0600
TZOFFSETTO:-0500
TZNAME:CDT
DTSTART:20250309T080000
END:DAYLIGHT
BEGIN:STANDARD
TZOFFSETFROM:-0500
TZOFFSETTO:-0600
TZNAME:CST
DTSTART:20251102T070000
END:STANDARD
BEGIN:DAYLIGHT
TZOFFSETFROM:-0600
TZOFFSETTO:-0500
TZNAME:CDT
DTSTART:20260308T080000
END:DAYLIGHT
BEGIN:STANDARD
TZOFFSETFROM:-0500
TZOFFSETTO:-0600
TZNAME:CST
DTSTART:20261101T070000
END:STANDARD
END:VTIMEZONE
BEGIN:VEVENT
DTSTART;TZID=America/Chicago:20251002T153000
DTEND;TZID=America/Chicago:20251002T173000
DTSTAMP:20260424T093829
CREATED:20250827T141942Z
LAST-MODIFIED:20250827T141942Z
UID:10002911-1759419000-1759426200@thelocalhub-ic.com
SUMMARY:Afterschool Studio
DESCRIPTION:Join us on the first Thursday of each month for Afterschool Studio—special activities designed for elementary-aged kids and their families. Each session features a new hands-on challenge that blends science\, technology\, engineering\, art\, and math (STEAM). Our museum educators will guide kids as they tinker\, build\, and create—while families learn and explore together.\n\nNo registration required; just stop by the museum and dive into the theme of the month!\n\nUpcoming themes include:\nOctober 2 – Lights and Shadows ExplorationNovember 6 – All Things TechDecember 4 – Make and Give: Light Up Card
URL:https://thelocalhub-ic.com/event/afterschool-studio/2025-10-02/
LOCATION:The Iowa Children’s Museum\, 1451 Coral Ridge Ave\, Coralville\, Iowa\, 52241\, United States
CATEGORIES:Kids
ATTACH;FMTTYPE=image/png:https://thelocalhub-ic.com/wp-content/uploads/2025/08/Afterschool-Studio_The-Local-Hub_Iowa-Childrens-Museum_Iowa-City.png
END:VEVENT
BEGIN:VEVENT
DTSTART;TZID=America/Chicago:20250928T180000
DTEND;TZID=America/Chicago:20250928T193000
DTSTAMP:20260424T093829
CREATED:20250827T140726Z
LAST-MODIFIED:20250827T140726Z
UID:10002905-1759082400-1759087800@thelocalhub-ic.com
SUMMARY:Sensory Friendly Night
DESCRIPTION:Join us on the last Sunday of each month for Sensory Friendly Night!\n\nThis event is designed for families with members who experience sensory sensitivities\, are on the autism spectrum\, or who have any health needs that would make a quieter visit more enjoyable. We understand that the museum can be a bustling place. During Sensory Friendly Night\, we provide adjusted sound levels and limit attendance to create a calmer environment. Families can explore the museum at their own pace. As always\, we have KultureCity Sensory Inclusive™ signage to help you navigate exhibits and sensory bags available for checkout at the front desk. Our Family Sanctuary is also available for guest use at any time.\n\nAdmission is free during Sensory Friendly Night\, thanks to our friends at GreenState Credit Union.\n\nJoin us for a fun evening and let your child explore and learn in a comfortable and supportive environment!
URL:https://thelocalhub-ic.com/event/sensory-friendly-night-4/2025-09-28/
LOCATION:The Iowa Children’s Museum\, 1451 Coral Ridge Ave\, Coralville\, Iowa\, 52241\, United States
CATEGORIES:Family,Free,Kids
ATTACH;FMTTYPE=image/png:https://thelocalhub-ic.com/wp-content/uploads/2025/08/Sensory-Friendly_Iowa-Childrens-Museum_The-Local-Hub-Iowa-City_Iowa-City_Museum_GreenState_Credit-Union.png
END:VEVENT
BEGIN:VEVENT
DTSTART;TZID=America/Chicago:20250924T090000
DTEND;TZID=America/Chicago:20250924T110000
DTSTAMP:20260424T093829
CREATED:20250827T141313Z
LAST-MODIFIED:20250827T141313Z
UID:10002910-1758704400-1758711600@thelocalhub-ic.com
SUMMARY:Toddler Takeover at The Iowa Children’s Museum
DESCRIPTION:With school back in session\, it’s time to celebrate our littlest learners! Toddler Takeover offers new ways for little ones to learn and play! Throughout the event\, caregivers can also discover how young children learn through different styles of play from our museum educators and get helpful tips to make playtime even more meaningful at home.\n\nPlease note: Activities from 9-10 a.m. are available during our Member-Only Hours. We open to the public at 10:00 a.m. and invite ALL little learners to join in the fun from 10-11 a.m.\n\nToddler Takeover in September is sponsored by our friends at Lionheart Early Learning Center!\n\nActivity Locations in September:\n9/3: City Works\n9/10: Art Studio\n9/17: City Works\n9/24: Art Studio
URL:https://thelocalhub-ic.com/event/toddler-takeover-at-the-iowa-childrens-museum/2025-09-24/
LOCATION:The Iowa Children’s Museum\, 1451 Coral Ridge Ave\, Coralville\, Iowa\, 52241\, United States
CATEGORIES:Family,Kids
END:VEVENT
BEGIN:VEVENT
DTSTART;TZID=America/Chicago:20250917T090000
DTEND;TZID=America/Chicago:20250917T110000
DTSTAMP:20260424T093829
CREATED:20250827T141313Z
LAST-MODIFIED:20250827T141313Z
UID:10002909-1758099600-1758106800@thelocalhub-ic.com
SUMMARY:Toddler Takeover at The Iowa Children’s Museum
DESCRIPTION:With school back in session\, it’s time to celebrate our littlest learners! Toddler Takeover offers new ways for little ones to learn and play! Throughout the event\, caregivers can also discover how young children learn through different styles of play from our museum educators and get helpful tips to make playtime even more meaningful at home.\n\nPlease note: Activities from 9-10 a.m. are available during our Member-Only Hours. We open to the public at 10:00 a.m. and invite ALL little learners to join in the fun from 10-11 a.m.\n\nToddler Takeover in September is sponsored by our friends at Lionheart Early Learning Center!\n\nActivity Locations in September:\n9/3: City Works\n9/10: Art Studio\n9/17: City Works\n9/24: Art Studio
URL:https://thelocalhub-ic.com/event/toddler-takeover-at-the-iowa-childrens-museum/2025-09-17/
LOCATION:The Iowa Children’s Museum\, 1451 Coral Ridge Ave\, Coralville\, Iowa\, 52241\, United States
CATEGORIES:Family,Kids
END:VEVENT
BEGIN:VEVENT
DTSTART;TZID=America/Chicago:20240708T093000
DTEND;TZID=America/Chicago:20240708T110000
DTSTAMP:20260424T093829
CREATED:20240603T205604Z
LAST-MODIFIED:20251013T181920Z
UID:10000581-1720431000-1720436400@thelocalhub-ic.com
SUMMARY:ICM2GO in Coralville
DESCRIPTION:Come play in the park with The Iowa Children’s Museum! Their educators and PLAYologists will be in Coralville Central Park on Monday mornings throughout the summer. Enjoy some free outdoor activities as you learn through play.
URL:https://thelocalhub-ic.com/event/icm2go-in-coralville-3/
LOCATION:Coralville Central Park\, 501 6th St\, Coralville\, Iowa\, 52241\, United States
CATEGORIES:Family,Free
END:VEVENT
BEGIN:VEVENT
DTSTART;TZID=America/Chicago:20240701T093000
DTEND;TZID=America/Chicago:20240701T110000
DTSTAMP:20260424T093829
CREATED:20240603T205541Z
LAST-MODIFIED:20251013T182225Z
UID:10000570-1719826200-1719831600@thelocalhub-ic.com
SUMMARY:ICM2GO in Coralville
DESCRIPTION:Come play in the park with The Iowa Children’s Museum! Their educators and PLAYologists will be in Coralville Central Park on Monday mornings throughout the summer. Enjoy some free outdoor activities as you learn through play.
URL:https://thelocalhub-ic.com/event/icm2go-in-coralville-2/
LOCATION:Coralville Central Park\, 501 6th St\, Coralville\, Iowa\, 52241\, United States
CATEGORIES:Family,Free
END:VEVENT
BEGIN:VEVENT
DTSTART;TZID=America/Chicago:20240630T180000
DTEND;TZID=America/Chicago:20240630T193000
DTSTAMP:20260424T093829
CREATED:20240603T205540Z
LAST-MODIFIED:20251013T182225Z
UID:10000569-1719770400-1719775800@thelocalhub-ic.com
SUMMARY:Sensory Friendly Night
DESCRIPTION:This event is designed for families with members who experience sensory sensitivities\, are on the autism spectrum\, or who have any health needs that would make a quieter visit more enjoyable. Admission is free during Sensory Friendly Night\, thanks to our friends at GreenState Credit Union.
URL:https://thelocalhub-ic.com/event/sensory-friendly-night/
CATEGORIES:Family,Free
END:VEVENT
BEGIN:VEVENT
DTSTART;TZID=America/Chicago:20240625T183000
DTEND;TZID=America/Chicago:20240625T200000
DTSTAMP:20260424T093829
CREATED:20240603T205501Z
LAST-MODIFIED:20251013T182226Z
UID:10000554-1719340200-1719345600@thelocalhub-ic.com
SUMMARY:ICM2GO in Iowa City
DESCRIPTION:Come play in the park with The Iowa Children’s Museum! Their educators and PLAYologists will be Iowa City Parks on Tuesday evenings throughout the summer. Enjoy some free outdoor activities as you learn through play!
URL:https://thelocalhub-ic.com/event/icm2go-in-iowa-city-2/
LOCATION:S.T. Morrison Park\, 1513 7th St\, Coralville\, Iowa\, 52241\, United States
CATEGORIES:Family,Free
END:VEVENT
BEGIN:VEVENT
DTSTART;TZID=America/Chicago:20240624T093000
DTEND;TZID=America/Chicago:20240624T110000
DTSTAMP:20260424T093829
CREATED:20240603T112509Z
LAST-MODIFIED:20251013T182227Z
UID:10000534-1719221400-1719226800@thelocalhub-ic.com
SUMMARY:ICM2GO in Coralville
DESCRIPTION:Come play in the park with The Iowa Children’s Museum! Their educators and PLAYologists will be in Coralville Central Park on Monday mornings throughout the summer. Enjoy some free outdoor activities as you learn through play.
URL:https://thelocalhub-ic.com/event/icm2go-in-coralville/
LOCATION:Coralville Central Park\, 501 6th St\, Coralville\, Iowa\, 52241\, United States
CATEGORIES:Family,Free
END:VEVENT
BEGIN:VEVENT
DTSTART;TZID=America/Chicago:20240611T183000
DTEND;TZID=America/Chicago:20240611T200000
DTSTAMP:20260424T093829
CREATED:20240603T112410Z
LAST-MODIFIED:20251013T182230Z
UID:10000515-1718130600-1718136000@thelocalhub-ic.com
SUMMARY:ICM2GO in Iowa City
DESCRIPTION:Come play in the park with The Iowa Children’s Museum! Their educators and PLAYologists will be Iowa City Parks on Tuesday evenings throughout the summer. Enjoy some free outdoor activities as you learn through play!
URL:https://thelocalhub-ic.com/event/icm2go-in-iowa-city/
LOCATION:Mercer Park\, 1317 Dover St\, Iowa City\, Iowa\, 52240\, United States
CATEGORIES:Family,Free
END:VEVENT
END:VCALENDAR