BEGIN:VCALENDAR
VERSION:2.0
PRODID:-//The Local Hub - ECPv6.15.18//NONSGML v1.0//EN
CALSCALE:GREGORIAN
METHOD:PUBLISH
X-WR-CALNAME:The Local Hub
X-ORIGINAL-URL:https://thelocalhub-ic.com
X-WR-CALDESC:Events for The Local Hub
REFRESH-INTERVAL;VALUE=DURATION:PT1H
X-Robots-Tag:noindex
X-PUBLISHED-TTL:PT1H
BEGIN:VTIMEZONE
TZID:UTC
BEGIN:STANDARD
TZOFFSETFROM:+0000
TZOFFSETTO:+0000
TZNAME:UTC
DTSTART:20240101T000000
END:STANDARD
END:VTIMEZONE
BEGIN:VEVENT
DTSTART;TZID=UTC:20251125T180000
DTEND;TZID=UTC:20251125T190000
DTSTAMP:20260420T115434
CREATED:20251117T194840Z
LAST-MODIFIED:20251117T194840Z
UID:10003936-1764093600-1764097200@thelocalhub-ic.com
SUMMARY:Grief Support Group for People Under 50
DESCRIPTION:For people under 50 who’ve experienced a significant personal loss\, join us for a confidential and donation-based grief support group.\n\nLed by a facilitator trained in grief and end of life\, and no RSVP required. For more information or additional questions\, reach out to the Death Collective of Eastern Iowa at info@deathcollectiveeasterniowa.com.
URL:https://thelocalhub-ic.com/event/grief-support-group-for-people-under-50/
LOCATION:Press Coffee\, 1120 N. Dodge St\, Iowa City\, Iowa\, 52245\, United States
ATTACH;FMTTYPE=image/png:https://thelocalhub-ic.com/wp-content/uploads/2025/11/Grief-Support_Press-Coffee_Events-Near-Me_Things-To-Do_Iowa-City_The-Local-Hub.png
ORGANIZER;CN="Death Collective of Eastern Iowa":MAILTO:deathcollectiveei@gmail.com
END:VEVENT
END:VCALENDAR