BEGIN:VCALENDAR
VERSION:2.0
PRODID:-//The Local Hub - ECPv6.15.18//NONSGML v1.0//EN
CALSCALE:GREGORIAN
METHOD:PUBLISH
X-WR-CALNAME:The Local Hub
X-ORIGINAL-URL:https://thelocalhub-ic.com
X-WR-CALDESC:Events for The Local Hub
REFRESH-INTERVAL;VALUE=DURATION:PT1H
X-Robots-Tag:noindex
X-PUBLISHED-TTL:PT1H
BEGIN:VTIMEZONE
TZID:UTC
BEGIN:STANDARD
TZOFFSETFROM:+0000
TZOFFSETTO:+0000
TZNAME:UTC
DTSTART:20240101T000000
END:STANDARD
END:VTIMEZONE
BEGIN:VEVENT
DTSTART;TZID=UTC:20251203T180000
DTEND;TZID=UTC:20251203T193000
DTSTAMP:20260421T175311
CREATED:20251126T013400Z
LAST-MODIFIED:20251126T013400Z
UID:10004103-1764784800-1764790200@thelocalhub-ic.com
SUMMARY:K-Pop Demon Hunter Sing-Along Party
DESCRIPTION:Are you ready to seal the Honmoon? Join us for an evening of sing-along fun featuring your favorite tracks\, create a K-Pop inspired ornament to take home and more. Feel free to dress up and bring that extra fandom flair to the event.\n\nContact Kayla or Zoe at the North Liberty Library with questions.
URL:https://thelocalhub-ic.com/event/k-pop-demon-hunter-sing-along-party/
LOCATION:North Liberty Library\, 520 W. Cherry St\, North Liberty\, Iowa\, 52317\, United States
CATEGORIES:Free,Kids,Teen
ATTACH;FMTTYPE=image/png:https://thelocalhub-ic.com/wp-content/uploads/2025/11/K-Pop-Demon-Hunter_Kpop_North-Liberty-Library_Events-near-Me_Free_Local-Hub-Iowa-City_kids-event.png
END:VEVENT
BEGIN:VEVENT
DTSTART;TZID=UTC:20251206T100000
DTEND;TZID=UTC:20251206T160000
DTSTAMP:20260421T175311
CREATED:20251124T174824Z
LAST-MODIFIED:20251124T174824Z
UID:10004018-1765015200-1765036800@thelocalhub-ic.com
SUMMARY:Tractor Wagon Rides sponsored by Hills Bank
DESCRIPTION:There is no better way to take in the sights and sounds of the holiday season than with a Tractor Wagon Ride through downtown. Enjoy a FREE whimsical ride in a decorated wagon pulled by a classic tractor from Bass Farms.\n\nRides run from 10:00 a.m. to 4:00 p.m. on a first-come\, first-serve basis\, departing every 15 minutes. Hop on outside of Hills Bank\, located at the corner of Washington and Clinton Streets. Riders will receive a candy cane and can cozy up with a blanket for a festive ride around the city.
URL:https://thelocalhub-ic.com/event/tractor-wagon-rides-sponsored-by-hills-bank/2025-12-06/
LOCATION:Downtown Iowa City\, 315 S. Gilbert St.\, Iowa City\, Iowa\, 52240\, United States
CATEGORIES:Date Night,Family,Free,Kids,Teen
ATTACH;FMTTYPE=image/png:https://thelocalhub-ic.com/wp-content/uploads/2025/11/Hills-Bank_Downtown-Iowa-City_The-Local-Hub_Wagon-Rides_Free-Family-Events.png
END:VEVENT
BEGIN:VEVENT
DTSTART;TZID=UTC:20251213T100000
DTEND;TZID=UTC:20251213T160000
DTSTAMP:20260421T175311
CREATED:20251124T174824Z
LAST-MODIFIED:20251124T174824Z
UID:10004019-1765620000-1765641600@thelocalhub-ic.com
SUMMARY:Tractor Wagon Rides sponsored by Hills Bank
DESCRIPTION:There is no better way to take in the sights and sounds of the holiday season than with a Tractor Wagon Ride through downtown. Enjoy a FREE whimsical ride in a decorated wagon pulled by a classic tractor from Bass Farms.\n\nRides run from 10:00 a.m. to 4:00 p.m. on a first-come\, first-serve basis\, departing every 15 minutes. Hop on outside of Hills Bank\, located at the corner of Washington and Clinton Streets. Riders will receive a candy cane and can cozy up with a blanket for a festive ride around the city.
URL:https://thelocalhub-ic.com/event/tractor-wagon-rides-sponsored-by-hills-bank/2025-12-13/
LOCATION:Downtown Iowa City\, 315 S. Gilbert St.\, Iowa City\, Iowa\, 52240\, United States
CATEGORIES:Date Night,Family,Free,Kids,Teen
ATTACH;FMTTYPE=image/png:https://thelocalhub-ic.com/wp-content/uploads/2025/11/Hills-Bank_Downtown-Iowa-City_The-Local-Hub_Wagon-Rides_Free-Family-Events.png
END:VEVENT
BEGIN:VEVENT
DTSTART;TZID=UTC:20251220T100000
DTEND;TZID=UTC:20251220T160000
DTSTAMP:20260421T175311
CREATED:20251124T174824Z
LAST-MODIFIED:20251124T174824Z
UID:10004020-1766224800-1766246400@thelocalhub-ic.com
SUMMARY:Tractor Wagon Rides sponsored by Hills Bank
DESCRIPTION:There is no better way to take in the sights and sounds of the holiday season than with a Tractor Wagon Ride through downtown. Enjoy a FREE whimsical ride in a decorated wagon pulled by a classic tractor from Bass Farms.\n\nRides run from 10:00 a.m. to 4:00 p.m. on a first-come\, first-serve basis\, departing every 15 minutes. Hop on outside of Hills Bank\, located at the corner of Washington and Clinton Streets. Riders will receive a candy cane and can cozy up with a blanket for a festive ride around the city.
URL:https://thelocalhub-ic.com/event/tractor-wagon-rides-sponsored-by-hills-bank/2025-12-20/
LOCATION:Downtown Iowa City\, 315 S. Gilbert St.\, Iowa City\, Iowa\, 52240\, United States
CATEGORIES:Date Night,Family,Free,Kids,Teen
ATTACH;FMTTYPE=image/png:https://thelocalhub-ic.com/wp-content/uploads/2025/11/Hills-Bank_Downtown-Iowa-City_The-Local-Hub_Wagon-Rides_Free-Family-Events.png
END:VEVENT
END:VCALENDAR