BEGIN:VCALENDAR
VERSION:2.0
PRODID:-//The Local Hub - ECPv6.15.18//NONSGML v1.0//EN
CALSCALE:GREGORIAN
METHOD:PUBLISH
X-WR-CALNAME:The Local Hub
X-ORIGINAL-URL:https://thelocalhub-ic.com
X-WR-CALDESC:Events for The Local Hub
REFRESH-INTERVAL;VALUE=DURATION:PT1H
X-Robots-Tag:noindex
X-PUBLISHED-TTL:PT1H
BEGIN:VTIMEZONE
TZID:UTC
BEGIN:STANDARD
TZOFFSETFROM:+0000
TZOFFSETTO:+0000
TZNAME:UTC
DTSTART:20240101T000000
END:STANDARD
END:VTIMEZONE
BEGIN:VEVENT
DTSTART;TZID=UTC:20251211T160000
DTEND;TZID=UTC:20251211T190000
DTSTAMP:20260422T131044
CREATED:20251125T223901Z
LAST-MODIFIED:20251125T223901Z
UID:10004082-1765468800-1765479600@thelocalhub-ic.com
SUMMARY:Swisher Sip & Shop with Santa
DESCRIPTION:Join us in Downtown Swisher for a Sip & Shop w/ Santa on Thursday\, Dec. 11th from 4-7pm. Shopping\, music\, specials\, food & drinks.\n\nSign-up at Vault Boutique to win a Jolly Gift Basket full of goodies!\nPlus\, enjoy SPECIALS at the following participants:\n\nVault Boutique• 20% off your ENTIRE purchase if dressed in an Ugly Sweater or wearing a holiday hat. 10% off your ENTIRE purchase if not dressed up.• Spend over $50\, get a FREE gift• Snacks & Drinks\n\n Swisher Sips (inside Rose Barn) featuring your favorite caffeinated and non-caffeinated tea bombs\, protein shakes and tea kits.\n\nPlum Creek Boutique• Holiday Specials• Drinks & Snacks\n\n AO 3D Osterkamp Hydro Farms (inside Rose Barn)• Plants\, Holiday Decor\, Planting Pots and more!\n\n Rose Barn• VENDORS\n\nBlack Squirrel Tap• Jolly Drink Specials• FREE Pudding Shot to those dressed in Holiday Attire!• Live Music w/ Casey Klein (5-8pm)• Visit with Santa  starting at 4pm
URL:https://thelocalhub-ic.com/event/swisher-sip-shop-with-santa-2/
LOCATION:Black Squirrel Tap\, 72 2nd Street SE\, Swisher\, Iowa\, 52338\, United States
CATEGORIES:Shop Local
ATTACH;FMTTYPE=image/png:https://thelocalhub-ic.com/wp-content/uploads/2025/11/Sip-and-shop_Swisher-Iowa_Holiday-Shopping_Shopping-near-me_The-Local-Hub-Iowa-City_North-Liberty.png
END:VEVENT
BEGIN:VEVENT
DTSTART;TZID=UTC:20251206T080000
DTEND;TZID=UTC:20251206T120000
DTSTAMP:20260422T131044
CREATED:20251126T012632Z
LAST-MODIFIED:20251126T012632Z
UID:10004101-1765008000-1765022400@thelocalhub-ic.com
SUMMARY:Holiday Vendor Fair
DESCRIPTION:Local vendors will have items on display and available to purchase in Roberts Gymnasium. \nTo sign up as vendor\, contact Matt Meseck at mmeseck@northlibertyiowa.org or call (319) 626-5716. State if you need electricity.
URL:https://thelocalhub-ic.com/event/holiday-vendor-fair/
LOCATION:North Liberty Community Center\, 520 W. Cherry St\, North Liberty\, Iowa\, 52317\, United States
CATEGORIES:Shop Local
ATTACH;FMTTYPE=image/png:https://thelocalhub-ic.com/wp-content/uploads/2025/11/Vendor-Fair_Holiday-Market_North-Liberty_Local-Hub_Iowa-City_Events-Near-Me.png
END:VEVENT
BEGIN:VEVENT
DTSTART;TZID=UTC:20251130T100000
DTEND;TZID=UTC:20251130T170000
DTSTAMP:20260422T131044
CREATED:20251125T225717Z
LAST-MODIFIED:20251125T225717Z
UID:10004085-1764496800-1764522000@thelocalhub-ic.com
SUMMARY:Small Business Saturday with Chamber Singers of Iowa City
DESCRIPTION:Small Business Saturday at Sidekick Coffee & Books \nJoin us on Small Business Saturday\, November 30\, and kick off your holiday shopping with cozy\, local charm! \n\nEnjoy the sounds of Christmas carols by Chamber Singers of Iowa City filling the shop with festive cheer while you sip your favorite latte and browse books\, gifts\, and treats.\nWe’ll even make your day a little brighter with free gift wrapping for all in-store purchases. Stop by\, shop small\, and soak up the holiday magic with your favorite neighborhood Sidekick.\n\nFREE EVENT
URL:https://thelocalhub-ic.com/event/small-business-saturday-with-chamber-singers-of-iowa-city/
LOCATION:Sidekick Coffee & Books\, 1310 1/2 Melrose Ave\, Iowa City\, IA\, 52246\, United States
CATEGORIES:Free,Shop Local
ATTACH;FMTTYPE=image/png:https://thelocalhub-ic.com/wp-content/uploads/2025/11/Sidekick-Coffee-and-Books_Small-Business-Saturday_Iowa-City_Local-Hub_Shopping_Near-Me_Chamber-singers.png
END:VEVENT
BEGIN:VEVENT
DTSTART;TZID=UTC:20251129T100000
DTEND;TZID=UTC:20251129T140000
DTSTAMP:20260422T131044
CREATED:20251125T223424Z
LAST-MODIFIED:20251125T223424Z
UID:10004081-1764410400-1764424800@thelocalhub-ic.com
SUMMARY:Shop Small Saturday in Swisher
DESCRIPTION:Spend the Saturday after Thanksgiving exploring small businesses in Downtown Swisher.\n Saturday\, Nov. 29th. Tis the season for holiday shopping and you won’t want to miss out on these good deals! Keep your dollars local and have a great time while doing it.\n\nShopping• Vault Boutique 10am-2pm • Plum Creek Boutique 10am-2pm • AO 3D Osterkamp Hydro Farms (inside Rose Barn)• Kava House & Cafe 7am-4pm\n\nFood & Drink• Swisher Sips (inside Rose Barn)• Kava House & Cafe• Black Squirrel Tap
URL:https://thelocalhub-ic.com/event/shop-small-saturday-in-swisher/
LOCATION:Swisher\, Iowa\, Swisher\, Iowa\, 52338\, United States
CATEGORIES:Shop Local
ATTACH;FMTTYPE=image/png:https://thelocalhub-ic.com/wp-content/uploads/2025/11/Small-Business-Saturday_The-Local-Hub_Iowa-City_North-Liberty_Near-Me_Boutique_Swisher-Iowa_Shopping.png
END:VEVENT
END:VCALENDAR