BEGIN:VCALENDAR
VERSION:2.0
PRODID:-//The Local Hub - ECPv6.15.18//NONSGML v1.0//EN
CALSCALE:GREGORIAN
METHOD:PUBLISH
X-WR-CALNAME:The Local Hub
X-ORIGINAL-URL:https://thelocalhub-ic.com
X-WR-CALDESC:Events for The Local Hub
REFRESH-INTERVAL;VALUE=DURATION:PT1H
X-Robots-Tag:noindex
X-PUBLISHED-TTL:PT1H
BEGIN:VTIMEZONE
TZID:America/Chicago
BEGIN:DAYLIGHT
TZOFFSETFROM:-0600
TZOFFSETTO:-0500
TZNAME:CDT
DTSTART:20230312T080000
END:DAYLIGHT
BEGIN:STANDARD
TZOFFSETFROM:-0500
TZOFFSETTO:-0600
TZNAME:CST
DTSTART:20231105T070000
END:STANDARD
BEGIN:DAYLIGHT
TZOFFSETFROM:-0600
TZOFFSETTO:-0500
TZNAME:CDT
DTSTART:20240310T080000
END:DAYLIGHT
BEGIN:STANDARD
TZOFFSETFROM:-0500
TZOFFSETTO:-0600
TZNAME:CST
DTSTART:20241103T070000
END:STANDARD
BEGIN:DAYLIGHT
TZOFFSETFROM:-0600
TZOFFSETTO:-0500
TZNAME:CDT
DTSTART:20250309T080000
END:DAYLIGHT
BEGIN:STANDARD
TZOFFSETFROM:-0500
TZOFFSETTO:-0600
TZNAME:CST
DTSTART:20251102T070000
END:STANDARD
END:VTIMEZONE
BEGIN:VEVENT
DTSTART;TZID=America/Chicago:20240706T073000
DTEND;TZID=America/Chicago:20240706T120000
DTSTAMP:20260421T180031
CREATED:20240603T205604Z
LAST-MODIFIED:20251013T182224Z
UID:10000579-1720251000-1720267200@thelocalhub-ic.com
SUMMARY:Iowa City Farmers Market
DESCRIPTION:The Iowa City Farmers Market is managed by the Iowa City Parks and Recreation Department. It is an open-aired market held in the Chauncey Swan parking ramp. The market runs May-October to provide access to fresh\, locally produced products.
URL:https://thelocalhub-ic.com/event/iowa-city-farmers-market-6/
LOCATION:Iowa City Farmers Market\, 405 E Washington St\, Iowa City\, IA\, 52240\, United States
CATEGORIES:Family,Free
END:VEVENT
BEGIN:VEVENT
DTSTART;TZID=America/Chicago:20240706T100000
DTEND;TZID=America/Chicago:20240706T180000
DTSTAMP:20260421T180031
CREATED:20240621T150131Z
LAST-MODIFIED:20251013T182224Z
UID:10000770-1720260000-1720288800@thelocalhub-ic.com
SUMMARY:Kalona Summer Getaway
DESCRIPTION:Make plans now to getaway to Kalona on Friday & Saturday\, July 5-6. Over 24 shops and food sites are filled with unique items and just waiting to celebrate a long weekend with you. A few shops will have promotions\, and as usual\, you’ll discover lots of the great tasting goodies that Kalona is famous for. Pick up a punch card at the Chamber or any of the participating shops to register for a HUGE PRIZE BASKET filled with Kalona goodies\, gift certificates and Kalona Cash to spend where you will.
URL:https://thelocalhub-ic.com/event/kalona-summer-getaway/2024-07-06/
LOCATION:Timeless Charm Gifts\, 210 5th St.\, Kalona\, Iowa\, 52247\, United States
CATEGORIES:Family,Free
END:VEVENT
BEGIN:VEVENT
DTSTART;TZID=America/Chicago:20240706T130000
DTEND;TZID=America/Chicago:20240706T160000
DTSTAMP:20260421T180031
CREATED:20240702T112057Z
LAST-MODIFIED:20251013T182224Z
UID:10000834-1720270800-1720281600@thelocalhub-ic.com
SUMMARY:Glizzies ‘n Grass with Slapdash Bluegrass at Field Day
DESCRIPTION:Come out to Field Day for some live music and your favorite 4th of July cuisine! They will have bluegrass on the patio alongside a specialty hot dog menu! All in the celebration of Independence Day!
URL:https://thelocalhub-ic.com/event/glizzies-n-grass-with-slapdash-bluegrass-at-field-day/
LOCATION:Field Day Brewing Co\, 925 Liberty Way\, North Liberty\, Iowa\, 52317\, United States
CATEGORIES:Family,Free
END:VEVENT
END:VCALENDAR