BEGIN:VCALENDAR
VERSION:2.0
PRODID:-//The Local Hub - ECPv6.15.18//NONSGML v1.0//EN
CALSCALE:GREGORIAN
METHOD:PUBLISH
X-ORIGINAL-URL:https://thelocalhub-ic.com
X-WR-CALDESC:Events for The Local Hub
REFRESH-INTERVAL;VALUE=DURATION:PT1H
X-Robots-Tag:noindex
X-PUBLISHED-TTL:PT1H
BEGIN:VTIMEZONE
TZID:America/Chicago
BEGIN:DAYLIGHT
TZOFFSETFROM:-0600
TZOFFSETTO:-0500
TZNAME:CDT
DTSTART:20230312T080000
END:DAYLIGHT
BEGIN:STANDARD
TZOFFSETFROM:-0500
TZOFFSETTO:-0600
TZNAME:CST
DTSTART:20231105T070000
END:STANDARD
BEGIN:DAYLIGHT
TZOFFSETFROM:-0600
TZOFFSETTO:-0500
TZNAME:CDT
DTSTART:20240310T080000
END:DAYLIGHT
BEGIN:STANDARD
TZOFFSETFROM:-0500
TZOFFSETTO:-0600
TZNAME:CST
DTSTART:20241103T070000
END:STANDARD
BEGIN:DAYLIGHT
TZOFFSETFROM:-0600
TZOFFSETTO:-0500
TZNAME:CDT
DTSTART:20250309T080000
END:DAYLIGHT
BEGIN:STANDARD
TZOFFSETFROM:-0500
TZOFFSETTO:-0600
TZNAME:CST
DTSTART:20251102T070000
END:STANDARD
END:VTIMEZONE
BEGIN:VEVENT
DTSTART;TZID=America/Chicago:20240629T073000
DTEND;TZID=America/Chicago:20240629T120000
DTSTAMP:20260421T193108
CREATED:20240603T205519Z
LAST-MODIFIED:20251013T182225Z
UID:10000565-1719646200-1719662400@thelocalhub-ic.com
SUMMARY:Iowa City Farmers Market
DESCRIPTION:The Iowa City Farmers Market is managed by the Iowa City Parks and Recreation Department. It is an open-aired market held in the Chauncey Swan parking ramp. The market runs May-October to provide access to fresh\, locally produced products.
URL:https://thelocalhub-ic.com/event/iowa-city-farmers-market-5/
LOCATION:Iowa City Farmers Market\, 405 E Washington St\, Iowa City\, IA\, 52240\, United States
CATEGORIES:Family,Free
END:VEVENT
BEGIN:VEVENT
DTSTART;TZID=America/Chicago:20240629T180000
DTEND;TZID=America/Chicago:20240629T210000
DTSTAMP:20260421T193108
CREATED:20240626T160609Z
LAST-MODIFIED:20251013T182225Z
UID:10000788-1719684000-1719694800@thelocalhub-ic.com
SUMMARY:Slap’n Tickle Live at Bobbers Grill-North Liberty
DESCRIPTION:Slap’n Tickle finally return to Bobbers in North Liberty! Come out for a good time and live music on Saturday June 29th\, starting at 6:00pm!
URL:https://thelocalhub-ic.com/event/slapn-tickle-live-at-bobbers-grill-north-liberty/
LOCATION:Bobbers Grill\, 1850 Scales Bend Rd NE\, North Liberty\, Iowa\, 52317\, United States
CATEGORIES:Family,Free
END:VEVENT
END:VCALENDAR