BEGIN:VCALENDAR
VERSION:2.0
PRODID:-//The Local Hub - ECPv6.15.18//NONSGML v1.0//EN
CALSCALE:GREGORIAN
METHOD:PUBLISH
X-WR-CALNAME:The Local Hub
X-ORIGINAL-URL:https://thelocalhub-ic.com
X-WR-CALDESC:Events for The Local Hub
REFRESH-INTERVAL;VALUE=DURATION:PT1H
X-Robots-Tag:noindex
X-PUBLISHED-TTL:PT1H
BEGIN:VTIMEZONE
TZID:America/Chicago
BEGIN:DAYLIGHT
TZOFFSETFROM:-0600
TZOFFSETTO:-0500
TZNAME:CDT
DTSTART:20230312T080000
END:DAYLIGHT
BEGIN:STANDARD
TZOFFSETFROM:-0500
TZOFFSETTO:-0600
TZNAME:CST
DTSTART:20231105T070000
END:STANDARD
BEGIN:DAYLIGHT
TZOFFSETFROM:-0600
TZOFFSETTO:-0500
TZNAME:CDT
DTSTART:20240310T080000
END:DAYLIGHT
BEGIN:STANDARD
TZOFFSETFROM:-0500
TZOFFSETTO:-0600
TZNAME:CST
DTSTART:20241103T070000
END:STANDARD
BEGIN:DAYLIGHT
TZOFFSETFROM:-0600
TZOFFSETTO:-0500
TZNAME:CDT
DTSTART:20250309T080000
END:DAYLIGHT
BEGIN:STANDARD
TZOFFSETFROM:-0500
TZOFFSETTO:-0600
TZNAME:CST
DTSTART:20251102T070000
END:STANDARD
END:VTIMEZONE
BEGIN:VEVENT
DTSTART;TZID=America/Chicago:20240627T113000
DTEND;TZID=America/Chicago:20240627T130000
DTSTAMP:20260421T192815
CREATED:20240603T205501Z
LAST-MODIFIED:20251013T182226Z
UID:10000556-1719487800-1719493200@thelocalhub-ic.com
SUMMARY:Down to Business: Leasing Clinic
DESCRIPTION:Register for a free lunch and learn geared towards connecting local underestimated and underserved small business owners and entrepreneurs to education\, resources and connection they can tap into year-round. Learn more about commercial leasing best practices. Engage with a panel of property-managers and commercial landlords.
URL:https://thelocalhub-ic.com/event/down-to-business-leasing-clinic/
LOCATION:Dream City\, 611 Southgate Ave.\, Iowa City\, Iowa\, 52240\, United States
CATEGORIES:Free
END:VEVENT
BEGIN:VEVENT
DTSTART;TZID=America/Chicago:20240627T163000
DTEND;TZID=America/Chicago:20240627T183000
DTSTAMP:20260421T192815
CREATED:20240606T095125Z
LAST-MODIFIED:20251013T182226Z
UID:10000657-1719505800-1719513000@thelocalhub-ic.com
SUMMARY:North Liberty Farmers Market
DESCRIPTION:Join Colony Acres in experiencing local goodness! Find locally grown produce\, freshly made treats\, and handcrafted goods.
URL:https://thelocalhub-ic.com/event/north-liberty-farmers-market-3/
LOCATION:Colony Acres\, 1150 S. Front St.\, North Liberty\, Iowa\, 52317\, United States
CATEGORIES:Family,Free
END:VEVENT
BEGIN:VEVENT
DTSTART;TZID=America/Chicago:20240627T173000
DTEND;TZID=America/Chicago:20240627T193000
DTSTAMP:20260421T192815
CREATED:20240603T205501Z
LAST-MODIFIED:20251013T182226Z
UID:10000557-1719509400-1719516600@thelocalhub-ic.com
SUMMARY:College Green Group Ride
DESCRIPTION:40-ish mile drop ride at competitive 20-24 mph average speed. No registration required.
URL:https://thelocalhub-ic.com/event/college-green-group-ride-6/
LOCATION:College Green Park\, 600 E. College St.\, Iowa City\, Iowa\, 52240\, United States
CATEGORIES:Free
ATTACH;FMTTYPE=image/png:https://thelocalhub-ic.com/wp-content/uploads/2024/06/IMG_0612.png
END:VEVENT
BEGIN:VEVENT
DTSTART;TZID=America/Chicago:20240627T180000
DTEND;TZID=America/Chicago:20240627T200000
DTSTAMP:20260421T192815
CREATED:20240618T120005Z
LAST-MODIFIED:20251013T182226Z
UID:10000762-1719511200-1719518400@thelocalhub-ic.com
SUMMARY:3 Years of Press Coffee!
DESCRIPTION:Stop in anytime on June 27th to celebrate 3 whole years of Press Coffee on North Dodge Street! Hang around after hours for some live music by Eva Ortega and reflect on the journey that got them there.
URL:https://thelocalhub-ic.com/event/3-years-of-press-coffee/
LOCATION:Press Coffee\, 1120 N. Dodge St\, Iowa City\, Iowa\, 52245\, United States
CATEGORIES:Family,Free
ATTACH;FMTTYPE=image/png:https://thelocalhub-ic.com/wp-content/uploads/2024/06/Press-Coffee_The-Local-Hub-Iowa-City.png
END:VEVENT
BEGIN:VEVENT
DTSTART;TZID=America/Chicago:20240627T183000
DTEND;TZID=America/Chicago:20240627T193000
DTSTAMP:20260421T192815
CREATED:20240603T205504Z
LAST-MODIFIED:20251013T182226Z
UID:10000558-1719513000-1719516600@thelocalhub-ic.com
SUMMARY:NAMI Family Support Group
DESCRIPTION:Peer-led support group for any adult with a loved one who has experienced symptoms of a mental health condition. Where you can gain insight from the challenges and success of others facing similar experiences.
URL:https://thelocalhub-ic.com/event/nami-family-support-group-4/
LOCATION:National Alliance on Mental Illness\, Johnson County (NAMIJC)\, 1531 S Gilbert St\, Iowa City\, Iowa\, 52240\, United States
CATEGORIES:Free
END:VEVENT
END:VCALENDAR