BEGIN:VCALENDAR
VERSION:2.0
PRODID:-//The Local Hub - ECPv6.15.18//NONSGML v1.0//EN
CALSCALE:GREGORIAN
METHOD:PUBLISH
X-ORIGINAL-URL:https://thelocalhub-ic.com
X-WR-CALDESC:Events for The Local Hub
REFRESH-INTERVAL;VALUE=DURATION:PT1H
X-Robots-Tag:noindex
X-PUBLISHED-TTL:PT1H
BEGIN:VTIMEZONE
TZID:America/Chicago
BEGIN:DAYLIGHT
TZOFFSETFROM:-0600
TZOFFSETTO:-0500
TZNAME:CDT
DTSTART:20230312T080000
END:DAYLIGHT
BEGIN:STANDARD
TZOFFSETFROM:-0500
TZOFFSETTO:-0600
TZNAME:CST
DTSTART:20231105T070000
END:STANDARD
BEGIN:DAYLIGHT
TZOFFSETFROM:-0600
TZOFFSETTO:-0500
TZNAME:CDT
DTSTART:20240310T080000
END:DAYLIGHT
BEGIN:STANDARD
TZOFFSETFROM:-0500
TZOFFSETTO:-0600
TZNAME:CST
DTSTART:20241103T070000
END:STANDARD
BEGIN:DAYLIGHT
TZOFFSETFROM:-0600
TZOFFSETTO:-0500
TZNAME:CDT
DTSTART:20250309T080000
END:DAYLIGHT
BEGIN:STANDARD
TZOFFSETFROM:-0500
TZOFFSETTO:-0600
TZNAME:CST
DTSTART:20251102T070000
END:STANDARD
END:VTIMEZONE
BEGIN:VEVENT
DTSTART;TZID=America/Chicago:20240621T150000
DTEND;TZID=America/Chicago:20240622T100000
DTSTAMP:20260421T193211
CREATED:20240618T120005Z
LAST-MODIFIED:20251013T182228Z
UID:10000763-1718982000-1719050400@thelocalhub-ic.com
SUMMARY:Camp North Liberty
DESCRIPTION:Dig out your sleeping bags and tent or prepare the camper — it’s time to make plans to attend Camp North Liberty Friday June 21st through Saturday June 22nd. City staff camp counselors have prepared a full evenings of activities including cardboard boat regatta\, live music\, swimming\, an outdoor movie and\, of course – camping! Check out all the details at the events website.
URL:https://thelocalhub-ic.com/event/camp-north-liberty/
LOCATION:Iowa
CATEGORIES:Family,Free
END:VEVENT
BEGIN:VEVENT
DTSTART;TZID=America/Chicago:20240622T160000
DTEND;TZID=America/Chicago:20240622T230000
DTSTAMP:20260421T193211
CREATED:20240607T124308Z
LAST-MODIFIED:20251013T182227Z
UID:10000683-1719072000-1719097200@thelocalhub-ic.com
SUMMARY:Downtown Iowa City Block Party
DESCRIPTION:Iowa City’s biggest event of the year returns this summer! The 7th Annual Downtown Block Party is Saturday June 22nd\, 2024 from 4:00pm-11:00pm and will take over 14 blocks in downtown Iowa City. All of the activities and entertainment at the event are completely free and geared toward all ages.
URL:https://thelocalhub-ic.com/event/downtown-iowa-city-block-party/
LOCATION:Downtown Iowa City\, 315 S. Gilbert St.\, Iowa City\, Iowa\, 52240\, United States
CATEGORIES:Family,Free
END:VEVENT
END:VCALENDAR