BEGIN:VCALENDAR
VERSION:2.0
PRODID:-//The Local Hub - ECPv6.15.18//NONSGML v1.0//EN
CALSCALE:GREGORIAN
METHOD:PUBLISH
X-ORIGINAL-URL:https://thelocalhub-ic.com
X-WR-CALDESC:Events for The Local Hub
REFRESH-INTERVAL;VALUE=DURATION:PT1H
X-Robots-Tag:noindex
X-PUBLISHED-TTL:PT1H
BEGIN:VTIMEZONE
TZID:America/Chicago
BEGIN:DAYLIGHT
TZOFFSETFROM:-0600
TZOFFSETTO:-0500
TZNAME:CDT
DTSTART:20230312T080000
END:DAYLIGHT
BEGIN:STANDARD
TZOFFSETFROM:-0500
TZOFFSETTO:-0600
TZNAME:CST
DTSTART:20231105T070000
END:STANDARD
BEGIN:DAYLIGHT
TZOFFSETFROM:-0600
TZOFFSETTO:-0500
TZNAME:CDT
DTSTART:20240310T080000
END:DAYLIGHT
BEGIN:STANDARD
TZOFFSETFROM:-0500
TZOFFSETTO:-0600
TZNAME:CST
DTSTART:20241103T070000
END:STANDARD
BEGIN:DAYLIGHT
TZOFFSETFROM:-0600
TZOFFSETTO:-0500
TZNAME:CDT
DTSTART:20250309T080000
END:DAYLIGHT
BEGIN:STANDARD
TZOFFSETFROM:-0500
TZOFFSETTO:-0600
TZNAME:CST
DTSTART:20251102T070000
END:STANDARD
END:VTIMEZONE
BEGIN:VEVENT
DTSTART;TZID=America/Chicago:20240613T163000
DTEND;TZID=America/Chicago:20240613T183000
DTSTAMP:20260421T193211
CREATED:20240606T095125Z
LAST-MODIFIED:20251013T182230Z
UID:10000655-1718296200-1718303400@thelocalhub-ic.com
SUMMARY:North Liberty Farmers Market
DESCRIPTION:Join Colony Acres in experiencing local goodness! Find locally grown produce\, freshly made treats\, and handcrafted goods.
URL:https://thelocalhub-ic.com/event/north-liberty-farmers-market/
LOCATION:Colony Acres\, 1150 S. Front St.\, North Liberty\, Iowa\, 52317\, United States
CATEGORIES:Family,Free
END:VEVENT
BEGIN:VEVENT
DTSTART;TZID=America/Chicago:20240613T183000
DTEND;TZID=America/Chicago:20240613T223000
DTSTAMP:20260421T193211
CREATED:20240607T124425Z
LAST-MODIFIED:20251013T182229Z
UID:10000686-1718303400-1718317800@thelocalhub-ic.com
SUMMARY:Line Dancing at Wildwood Saloon
DESCRIPTION:Come to Wildwood Saloon for Line Dancing with DJ Kountry. Lessons first with free dance to follow!
URL:https://thelocalhub-ic.com/event/line-dancing-at-wildwood-saloon/
LOCATION:Wildwood Saloon\, 4919 Walleye Dr. SE\, Iowa City\, Iowa\, 52240\, United States
CATEGORIES:Free
END:VEVENT
END:VCALENDAR