BEGIN:VCALENDAR
VERSION:2.0
PRODID:-//The Local Hub - ECPv6.15.18//NONSGML v1.0//EN
CALSCALE:GREGORIAN
METHOD:PUBLISH
X-ORIGINAL-URL:https://thelocalhub-ic.com
X-WR-CALDESC:Events for The Local Hub
REFRESH-INTERVAL;VALUE=DURATION:PT1H
X-Robots-Tag:noindex
X-PUBLISHED-TTL:PT1H
BEGIN:VTIMEZONE
TZID:America/Chicago
BEGIN:DAYLIGHT
TZOFFSETFROM:-0600
TZOFFSETTO:-0500
TZNAME:CDT
DTSTART:20230312T080000
END:DAYLIGHT
BEGIN:STANDARD
TZOFFSETFROM:-0500
TZOFFSETTO:-0600
TZNAME:CST
DTSTART:20231105T070000
END:STANDARD
BEGIN:DAYLIGHT
TZOFFSETFROM:-0600
TZOFFSETTO:-0500
TZNAME:CDT
DTSTART:20240310T080000
END:DAYLIGHT
BEGIN:STANDARD
TZOFFSETFROM:-0500
TZOFFSETTO:-0600
TZNAME:CST
DTSTART:20241103T070000
END:STANDARD
BEGIN:DAYLIGHT
TZOFFSETFROM:-0600
TZOFFSETTO:-0500
TZNAME:CDT
DTSTART:20250309T080000
END:DAYLIGHT
BEGIN:STANDARD
TZOFFSETFROM:-0500
TZOFFSETTO:-0600
TZNAME:CST
DTSTART:20251102T070000
END:STANDARD
END:VTIMEZONE
BEGIN:VEVENT
DTSTART;TZID=America/Chicago:20240607T170000
DTEND;TZID=America/Chicago:20240607T200000
DTSTAMP:20260421T193107
CREATED:20240601T093657Z
LAST-MODIFIED:20251013T182230Z
UID:10000146-1717779600-1717790400@thelocalhub-ic.com
SUMMARY:Iowa Arts Festival
DESCRIPTION:The Iowa Arts Festival provides a feast for the senses over a three day span\, spreading throughout nine blocks and the Ped Mall in downtown Iowa City. The fine art fair features beautiful creations from local and national artists\, live music\, children’s activities\, performances\, and enticing food! \nAll family-friendly and FREE for everyone!  \nJune 7-9\, 2024.
URL:https://thelocalhub-ic.com/event/iowa-arts-festival-art-fair/
LOCATION:Downtown Iowa City\, 315 S. Gilbert St.\, Iowa City\, Iowa\, 52240\, United States
CATEGORIES:Family,Free
END:VEVENT
BEGIN:VEVENT
DTSTART;TZID=America/Chicago:20240607T190000
DTEND;TZID=America/Chicago:20240607T233000
DTSTAMP:20260421T193107
CREATED:20240603T112407Z
LAST-MODIFIED:20251013T182230Z
UID:10000507-1717786800-1717803000@thelocalhub-ic.com
SUMMARY:Trivia followed by Kareoke at Tailgators
DESCRIPTION:Trivia night followed by kareoke at Tailgators Sports Bar & Grill. Free to play and prizes galore. Come enjoy the fun individually or as a group!
URL:https://thelocalhub-ic.com/event/trivia-followed-by-kareoke-at-tailgators/
LOCATION:Tailgators Sports Bar & Grill\, 450 1st Ave\, Coralville\, Iowa\, 52241\, United States
CATEGORIES:Free
END:VEVENT
END:VCALENDAR