BEGIN:VCALENDAR
VERSION:2.0
PRODID:-//The Local Hub - ECPv6.15.18//NONSGML v1.0//EN
CALSCALE:GREGORIAN
METHOD:PUBLISH
X-ORIGINAL-URL:https://thelocalhub-ic.com
X-WR-CALDESC:Events for The Local Hub
REFRESH-INTERVAL;VALUE=DURATION:PT1H
X-Robots-Tag:noindex
X-PUBLISHED-TTL:PT1H
BEGIN:VTIMEZONE
TZID:America/Chicago
BEGIN:DAYLIGHT
TZOFFSETFROM:-0600
TZOFFSETTO:-0500
TZNAME:CDT
DTSTART:20230312T080000
END:DAYLIGHT
BEGIN:STANDARD
TZOFFSETFROM:-0500
TZOFFSETTO:-0600
TZNAME:CST
DTSTART:20231105T070000
END:STANDARD
BEGIN:DAYLIGHT
TZOFFSETFROM:-0600
TZOFFSETTO:-0500
TZNAME:CDT
DTSTART:20240310T080000
END:DAYLIGHT
BEGIN:STANDARD
TZOFFSETFROM:-0500
TZOFFSETTO:-0600
TZNAME:CST
DTSTART:20241103T070000
END:STANDARD
BEGIN:DAYLIGHT
TZOFFSETFROM:-0600
TZOFFSETTO:-0500
TZNAME:CDT
DTSTART:20250309T080000
END:DAYLIGHT
BEGIN:STANDARD
TZOFFSETFROM:-0500
TZOFFSETTO:-0600
TZNAME:CST
DTSTART:20251102T070000
END:STANDARD
END:VTIMEZONE
BEGIN:VEVENT
DTSTART;TZID=America/Chicago:20240707T090000
DTEND;TZID=America/Chicago:20240711T210000
DTSTAMP:20260420T132407
CREATED:20240626T160613Z
LAST-MODIFIED:20251013T181920Z
UID:10000796-1720342800-1720731600@thelocalhub-ic.com
SUMMARY:U-Pick Raspberries and Blueberries
DESCRIPTION:Guests can visit the farm and pick their own fresh berries right off the vine from Wednesdays-Sundays throughout the month of June and July. They provide the baskets\, you provide the smiles! There are a limited number of berries available\, and they will be sure to update if/when they are closing the patch to allow more berries to ripen. Be sure to follow on social media to stay up-to-date on picking availability.
URL:https://thelocalhub-ic.com/event/u-pick-raspberries-and-blueberries-2/2024-07-07/
LOCATION:Wilson’s Orchard & Farm\, 4823 Dingleberry Rd. NE #1\, Iowa City\, Iowa\, 52240\, United States
CATEGORIES:Family
END:VEVENT
END:VCALENDAR