BEGIN:VCALENDAR
VERSION:2.0
PRODID:-//The Local Hub - ECPv6.15.18//NONSGML v1.0//EN
CALSCALE:GREGORIAN
METHOD:PUBLISH
X-WR-CALNAME:The Local Hub
X-ORIGINAL-URL:https://thelocalhub-ic.com
X-WR-CALDESC:Events for The Local Hub
REFRESH-INTERVAL;VALUE=DURATION:PT1H
X-Robots-Tag:noindex
X-PUBLISHED-TTL:PT1H
BEGIN:VTIMEZONE
TZID:America/Chicago
BEGIN:DAYLIGHT
TZOFFSETFROM:-0600
TZOFFSETTO:-0500
TZNAME:CDT
DTSTART:20230312T080000
END:DAYLIGHT
BEGIN:STANDARD
TZOFFSETFROM:-0500
TZOFFSETTO:-0600
TZNAME:CST
DTSTART:20231105T070000
END:STANDARD
BEGIN:DAYLIGHT
TZOFFSETFROM:-0600
TZOFFSETTO:-0500
TZNAME:CDT
DTSTART:20240310T080000
END:DAYLIGHT
BEGIN:STANDARD
TZOFFSETFROM:-0500
TZOFFSETTO:-0600
TZNAME:CST
DTSTART:20241103T070000
END:STANDARD
BEGIN:DAYLIGHT
TZOFFSETFROM:-0600
TZOFFSETTO:-0500
TZNAME:CDT
DTSTART:20250309T080000
END:DAYLIGHT
BEGIN:STANDARD
TZOFFSETFROM:-0500
TZOFFSETTO:-0600
TZNAME:CST
DTSTART:20251102T070000
END:STANDARD
END:VTIMEZONE
BEGIN:VEVENT
DTSTART;TZID=America/Chicago:20240705T170000
DTEND;TZID=America/Chicago:20240705T233000
DTSTAMP:20260420T114746
CREATED:20240603T205604Z
LAST-MODIFIED:20251013T182224Z
UID:10000578-1720198800-1720222200@thelocalhub-ic.com
SUMMARY:Trivia followed by Kareoke at Tailgators
DESCRIPTION:Trivia night followed by kareoke at Tailgators Sports Bar & Grill. Free to play and prizes galore. Come enjoy the fun individually or as a group!
URL:https://thelocalhub-ic.com/event/trivia-followed-by-kareoke-at-tailgators-5/
LOCATION:Tailgators Sports Bar & Grill\, 450 1st Ave\, Coralville\, Iowa\, 52241\, United States
CATEGORIES:Free
END:VEVENT
BEGIN:VEVENT
DTSTART;TZID=America/Chicago:20240705T190000
DTEND;TZID=America/Chicago:20240705T220000
DTSTAMP:20260420T114746
CREATED:20240627T094611Z
LAST-MODIFIED:20251013T182224Z
UID:10000801-1720206000-1720216800@thelocalhub-ic.com
SUMMARY:Tanya English Live at The Highlander
DESCRIPTION:Come out to the Highlander Hotel for live music on Friday July 5th. Step back into this retro atmosphere with cold drinks\, delicious food and live tunes from Tanya English. \nLive music is open to all but dining reservations are encouraged and can be made on OpenTable Here
URL:https://thelocalhub-ic.com/event/tanya-english-live-at-the-highlander/
LOCATION:The Highlander Hotel\, 2525 Highlander Pl\, Iowa City\, Iowa\, 52245\, United States
CATEGORIES:Free,Nightlife
END:VEVENT
BEGIN:VEVENT
DTSTART;TZID=America/Chicago:20240705T210000
DTEND;TZID=America/Chicago:20240705T230000
DTSTAMP:20260420T114746
CREATED:20240607T124440Z
LAST-MODIFIED:20251013T182224Z
UID:10000696-1720213200-1720220400@thelocalhub-ic.com
SUMMARY:Salsa Dancing & Lessons at Wildwood Saloon
DESCRIPTION:Salsa dancing and lessons at Wildwood Saloon! This 21+ event will have lessons starting at 9:00pm followed by free dance.
URL:https://thelocalhub-ic.com/event/salsa-dancing-lessons-at-wildwood-saloon/
LOCATION:Wildwood Saloon\, 4919 Walleye Dr. SE\, Iowa City\, Iowa\, 52240\, United States
END:VEVENT
BEGIN:VEVENT
DTSTART;TZID=America/Chicago:20240705T213000
DTEND;TZID=America/Chicago:20240705T220000
DTSTAMP:20260420T114746
CREATED:20240611T110857Z
LAST-MODIFIED:20251013T182224Z
UID:10000721-1720215000-1720216800@thelocalhub-ic.com
SUMMARY:City of Iowa City Fireworks
DESCRIPTION:After the music ends on Friday night at Jazz Fest\, stick around the Pentacrest for fireworks\, courtesy of the City of Iowa CIty. Just look up and over the Old Capitol!
URL:https://thelocalhub-ic.com/event/city-of-iowa-city-fireworks/
LOCATION:Old Capitol Museum\, 21 N. Clinton St.\, Iowa CIty\, Iowa\, 52242\, United States
CATEGORIES:Family,Free
ATTACH;FMTTYPE=image/png:https://thelocalhub-ic.com/wp-content/uploads/2024/06/Iowa-City-Fireworks_The-Local-Hub-Iowa-City.png
END:VEVENT
END:VCALENDAR