BEGIN:VCALENDAR
VERSION:2.0
PRODID:-//The Local Hub - ECPv6.15.18//NONSGML v1.0//EN
CALSCALE:GREGORIAN
METHOD:PUBLISH
X-WR-CALNAME:The Local Hub
X-ORIGINAL-URL:https://thelocalhub-ic.com
X-WR-CALDESC:Events for The Local Hub
REFRESH-INTERVAL;VALUE=DURATION:PT1H
X-Robots-Tag:noindex
X-PUBLISHED-TTL:PT1H
BEGIN:VTIMEZONE
TZID:America/Chicago
BEGIN:DAYLIGHT
TZOFFSETFROM:-0600
TZOFFSETTO:-0500
TZNAME:CDT
DTSTART:20230312T080000
END:DAYLIGHT
BEGIN:STANDARD
TZOFFSETFROM:-0500
TZOFFSETTO:-0600
TZNAME:CST
DTSTART:20231105T070000
END:STANDARD
BEGIN:DAYLIGHT
TZOFFSETFROM:-0600
TZOFFSETTO:-0500
TZNAME:CDT
DTSTART:20240310T080000
END:DAYLIGHT
BEGIN:STANDARD
TZOFFSETFROM:-0500
TZOFFSETTO:-0600
TZNAME:CST
DTSTART:20241103T070000
END:STANDARD
BEGIN:DAYLIGHT
TZOFFSETFROM:-0600
TZOFFSETTO:-0500
TZNAME:CDT
DTSTART:20250309T080000
END:DAYLIGHT
BEGIN:STANDARD
TZOFFSETFROM:-0500
TZOFFSETTO:-0600
TZNAME:CST
DTSTART:20251102T070000
END:STANDARD
END:VTIMEZONE
BEGIN:VEVENT
DTSTART;TZID=America/Chicago:20240703T100000
DTEND;TZID=America/Chicago:20240704T220000
DTSTAMP:20260420T114745
CREATED:20240603T205549Z
LAST-MODIFIED:20251013T182225Z
UID:10000574-1720000800-1720130400@thelocalhub-ic.com
SUMMARY:Coralville 4thFest 2024
DESCRIPTION:Coralville’s annual 4th of July celebration\, 4thFest\, is a community tradition that attracts visitors from near and far. It’s a multi-day outdoor festival including a 5k run/walk\, food\, free concert\, the area’s largest Independence Day parade\, petting zoo and fireworks.
URL:https://thelocalhub-ic.com/event/coralville-4thfest-2024/
LOCATION:S.T. Morrison Park\, 1513 7th St\, Coralville\, Iowa\, 52241\, United States
CATEGORIES:Family,Free
END:VEVENT
BEGIN:VEVENT
DTSTART;TZID=America/Chicago:20240703T163000
DTEND;TZID=America/Chicago:20240703T183000
DTSTAMP:20260420T114745
CREATED:20240603T205549Z
LAST-MODIFIED:20251013T182225Z
UID:10000575-1720024200-1720031400@thelocalhub-ic.com
SUMMARY:Coralville Farmers Market
DESCRIPTION:Shop the Coralville Farmer’s Market at the Iowa River Landing! Discover something new every week like fresh baked goods\, local produce\, flowers\, honey\, wine\, handmade arts & crafts\, jewelry and more! Swing by for family fun and catch live performance from Chris Ingram.
URL:https://thelocalhub-ic.com/event/coralville-farmers-market-5/
LOCATION:Iowa River Landing\, 801 E 2nd Ave\, Coralville\, Iowa\, 52241\, United States
CATEGORIES:Family,Free
ATTACH;FMTTYPE=image/png:https://thelocalhub-ic.com/wp-content/uploads/2024/06/Coralville-Farmers-Market_Iowa-River-Landing_The-Local-Hub-Iowa-City.png
END:VEVENT
BEGIN:VEVENT
DTSTART;TZID=America/Chicago:20240703T200000
DTEND;TZID=America/Chicago:20240703T220000
DTSTAMP:20260420T114745
CREATED:20240606T095053Z
LAST-MODIFIED:20251013T182225Z
UID:10000644-1720036800-1720044000@thelocalhub-ic.com
SUMMARY:2 Dogs Pub Bingo Night
DESCRIPTION:Join 2 Dogs Pub for free and cash BINGO games with prizes from 2 Dogs Pub every Wednesday at 8:00pm. Progressive cash pot every week!
URL:https://thelocalhub-ic.com/event/2-dogs-pub-bingo-night-4/
LOCATION:2 Dogs Pub\, 1705 1st. Ave\, Iowa City\, Iowa\, 52240\, United States
CATEGORIES:Free
END:VEVENT
BEGIN:VEVENT
DTSTART;TZID=America/Chicago:20240703T213000
DTEND;TZID=America/Chicago:20240703T223000
DTSTAMP:20260420T114745
CREATED:20240611T110857Z
LAST-MODIFIED:20251013T182224Z
UID:10000720-1720042200-1720045800@thelocalhub-ic.com
SUMMARY:North Liberty Fireworks
DESCRIPTION:Celebrate Independence Day with the City of North Liberty with a fireworks display on Wednesday evening\, July 3rd\, 2024\, in Penn Meadows Park. The display will launch at 9:30pm from Owen Skelley Field in the southwest corner of Penn Meadows Park. \nViewers are welcome and encouraged to arrive early to play on the play structure and enjoy a picnic\, however there will not be any organized programming or on-site food sales available. Alcohol is prohibited.
URL:https://thelocalhub-ic.com/event/north-liberty-fireworks/
LOCATION:Penn Meadows Park\, 310 N Dubuque St\, North Liberty\, Iowa\, 52317\, United States
CATEGORIES:Family,Free
ATTACH;FMTTYPE=image/png:https://thelocalhub-ic.com/wp-content/uploads/2024/06/North-Liberty-Fireworks_The-Local-Hub-Iowa-City.png
END:VEVENT
END:VCALENDAR