BEGIN:VCALENDAR
VERSION:2.0
PRODID:-//The Local Hub - ECPv6.15.18//NONSGML v1.0//EN
CALSCALE:GREGORIAN
METHOD:PUBLISH
X-WR-CALNAME:The Local Hub
X-ORIGINAL-URL:https://thelocalhub-ic.com
X-WR-CALDESC:Events for The Local Hub
REFRESH-INTERVAL;VALUE=DURATION:PT1H
X-Robots-Tag:noindex
X-PUBLISHED-TTL:PT1H
BEGIN:VTIMEZONE
TZID:America/Chicago
BEGIN:DAYLIGHT
TZOFFSETFROM:-0600
TZOFFSETTO:-0500
TZNAME:CDT
DTSTART:20230312T080000
END:DAYLIGHT
BEGIN:STANDARD
TZOFFSETFROM:-0500
TZOFFSETTO:-0600
TZNAME:CST
DTSTART:20231105T070000
END:STANDARD
BEGIN:DAYLIGHT
TZOFFSETFROM:-0600
TZOFFSETTO:-0500
TZNAME:CDT
DTSTART:20240310T080000
END:DAYLIGHT
BEGIN:STANDARD
TZOFFSETFROM:-0500
TZOFFSETTO:-0600
TZNAME:CST
DTSTART:20241103T070000
END:STANDARD
BEGIN:DAYLIGHT
TZOFFSETFROM:-0600
TZOFFSETTO:-0500
TZNAME:CDT
DTSTART:20250309T080000
END:DAYLIGHT
BEGIN:STANDARD
TZOFFSETFROM:-0500
TZOFFSETTO:-0600
TZNAME:CST
DTSTART:20251102T070000
END:STANDARD
END:VTIMEZONE
BEGIN:VEVENT
DTSTART;TZID=America/Chicago:20240630T110000
DTEND;TZID=America/Chicago:20240630T140000
DTSTAMP:20260420T132350
CREATED:20240621T150133Z
LAST-MODIFIED:20251013T182225Z
UID:10000776-1719745200-1719756000@thelocalhub-ic.com
SUMMARY:June Community Park Connections
DESCRIPTION:Come on down to Mercer Park for a community gathering at Shelter #2! Enjoy yard games\, refreshments\, and snacks for all ages. Kids can have fun with sidewalk chalk and bubbles\, making it a fun-filled event for everyone!
URL:https://thelocalhub-ic.com/event/june-community-park-connections/
LOCATION:Mercer Park\, 1317 Dover St\, Iowa City\, Iowa\, 52240\, United States
CATEGORIES:Family,Free
END:VEVENT
BEGIN:VEVENT
DTSTART;TZID=America/Chicago:20240630T140000
DTEND;TZID=America/Chicago:20240630T160000
DTSTAMP:20260420T132350
CREATED:20240603T205535Z
LAST-MODIFIED:20251013T182225Z
UID:10000568-1719756000-1719763200@thelocalhub-ic.com
SUMMARY:The Wizard of Oz
DESCRIPTION:America’s most beloved film comes to colorful life onstage! Introduce your kids to the Tin Man\, the Cowardly Lion\, and the Wizard himself in this magical hour-long adventure. This Young Footliters production is presented by children in grades K-12.
URL:https://thelocalhub-ic.com/event/the-wizard-of-oz-3/
LOCATION:Coralville Center for the Performing Arts\, 1301 5th St.\, Coralville\, Iowa\, 52241\, United States
CATEGORIES:Family
END:VEVENT
BEGIN:VEVENT
DTSTART;TZID=America/Chicago:20240630T140000
DTEND;TZID=America/Chicago:20240630T170000
DTSTAMP:20260420T132350
CREATED:20240624T154150Z
LAST-MODIFIED:20251013T182225Z
UID:10000787-1719756000-1719766800@thelocalhub-ic.com
SUMMARY:Afternoon With A View
DESCRIPTION:Celebrate Sundays – It’s still the weekend! Enjoy the summer scenery on the porch at Little Lights on the Lane with some homemade wood fire pizza and cold drinks. There will be a trucker hat bar by Radiant By Rhi\, permanent jewelry by Link’d by Lindsey and a pop up boutique by 223 vintage + 223 baby.
URL:https://thelocalhub-ic.com/event/afternoon-with-a-view/
LOCATION:Little Lights on the Lane\, 2 Ember Ln\, West Branch\, Iowa\, 52358\, United States
CATEGORIES:Family,Free
END:VEVENT
BEGIN:VEVENT
DTSTART;TZID=America/Chicago:20240630T180000
DTEND;TZID=America/Chicago:20240630T193000
DTSTAMP:20260420T132350
CREATED:20240603T205540Z
LAST-MODIFIED:20251013T182225Z
UID:10000569-1719770400-1719775800@thelocalhub-ic.com
SUMMARY:Sensory Friendly Night
DESCRIPTION:This event is designed for families with members who experience sensory sensitivities\, are on the autism spectrum\, or who have any health needs that would make a quieter visit more enjoyable. Admission is free during Sensory Friendly Night\, thanks to our friends at GreenState Credit Union.
URL:https://thelocalhub-ic.com/event/sensory-friendly-night/
LOCATION:Iowa
CATEGORIES:Family,Free
END:VEVENT
BEGIN:VEVENT
DTSTART;TZID=America/Chicago:20240630T193000
DTEND;TZID=America/Chicago:20240630T220000
DTSTAMP:20260420T132350
CREATED:20240613T094322Z
LAST-MODIFIED:20251013T182225Z
UID:10000748-1719775800-1719784800@thelocalhub-ic.com
SUMMARY:Free Summer Shakespeare: Julius Caesar
DESCRIPTION:Riverside Theatre\, Iowa City’s resident professional theatre\, is thrilled to announce its upcoming FREE production of Julius Caesar\, Shakespeare’s iconic Roman tragedy\, running for three weeks in Lower City Park\, June 14th through June 30th\, 2024.
URL:https://thelocalhub-ic.com/event/free-summer-shakespeare-julius-caesar-3/2024-06-30/
LOCATION:Lower City Park\, 119 E. College St\, Iowa City\, Iowa\, 52240\, United States
CATEGORIES:Free
ATTACH;FMTTYPE=image/png:https://thelocalhub-ic.com/wp-content/uploads/2024/06/Julius-Caesar_The-Local-Hub-Iowa-City.png
END:VEVENT
END:VCALENDAR