BEGIN:VCALENDAR
VERSION:2.0
PRODID:-//The Local Hub - ECPv6.15.18//NONSGML v1.0//EN
CALSCALE:GREGORIAN
METHOD:PUBLISH
X-ORIGINAL-URL:https://thelocalhub-ic.com
X-WR-CALDESC:Events for The Local Hub
REFRESH-INTERVAL;VALUE=DURATION:PT1H
X-Robots-Tag:noindex
X-PUBLISHED-TTL:PT1H
BEGIN:VTIMEZONE
TZID:America/Chicago
BEGIN:DAYLIGHT
TZOFFSETFROM:-0600
TZOFFSETTO:-0500
TZNAME:CDT
DTSTART:20230312T080000
END:DAYLIGHT
BEGIN:STANDARD
TZOFFSETFROM:-0500
TZOFFSETTO:-0600
TZNAME:CST
DTSTART:20231105T070000
END:STANDARD
BEGIN:DAYLIGHT
TZOFFSETFROM:-0600
TZOFFSETTO:-0500
TZNAME:CDT
DTSTART:20240310T080000
END:DAYLIGHT
BEGIN:STANDARD
TZOFFSETFROM:-0500
TZOFFSETTO:-0600
TZNAME:CST
DTSTART:20241103T070000
END:STANDARD
BEGIN:DAYLIGHT
TZOFFSETFROM:-0600
TZOFFSETTO:-0500
TZNAME:CDT
DTSTART:20250309T080000
END:DAYLIGHT
BEGIN:STANDARD
TZOFFSETFROM:-0500
TZOFFSETTO:-0600
TZNAME:CST
DTSTART:20251102T070000
END:STANDARD
END:VTIMEZONE
BEGIN:VEVENT
DTSTART;TZID=America/Chicago:20240626T090000
DTEND;TZID=America/Chicago:20240626T210000
DTSTAMP:20260420T132405
CREATED:20240626T160611Z
LAST-MODIFIED:20251013T182226Z
UID:10000789-1719392400-1719435600@thelocalhub-ic.com
SUMMARY:U-Pick Raspberries and Blueberries
DESCRIPTION:Guests can visit the farm and pick their own fresh berries right off the vine from Wednesdays-Sundays throughout the month of June and July. They provide the baskets\, you provide the smiles! There are a limited number of berries available\, and they will be sure to update if/when they are closing the patch to allow more berries to ripen. Be sure to follow on social media to stay up-to-date on picking availability.
URL:https://thelocalhub-ic.com/event/u-pick-raspberries-and-blueberries/
LOCATION:Wilson’s Orchard & Farm\, 4823 Dingleberry Rd. NE #1\, Iowa City\, Iowa\, 52240\, United States
CATEGORIES:Family
END:VEVENT
BEGIN:VEVENT
DTSTART;TZID=America/Chicago:20240626T163000
DTEND;TZID=America/Chicago:20240626T183000
DTSTAMP:20260420T132405
CREATED:20240603T205501Z
LAST-MODIFIED:20251013T182226Z
UID:10000555-1719419400-1719426600@thelocalhub-ic.com
SUMMARY:Coralville Farmers Market
DESCRIPTION:Shop the Coralville Farmer’s Market at the Iowa River Landing! Discover something new every week like fresh baked goods\, local produce\, flowers\, honey\, wine\, handmade arts & crafts\, jewelry and more! Swing by for family fun and catch live performance from Kevin Burt.
URL:https://thelocalhub-ic.com/event/coralville-farmers-market-4/
LOCATION:Iowa River Landing\, 801 E 2nd Ave\, Coralville\, Iowa\, 52241\, United States
CATEGORIES:Family,Free
ATTACH;FMTTYPE=image/png:https://thelocalhub-ic.com/wp-content/uploads/2024/06/Coralville-Farmers-Market_Iowa-River-Landing_The-Local-Hub-Iowa-City.png
END:VEVENT
BEGIN:VEVENT
DTSTART;TZID=America/Chicago:20240626T180000
DTEND;TZID=America/Chicago:20240626T210000
DTSTAMP:20260420T132405
CREATED:20240607T124439Z
LAST-MODIFIED:20251013T182226Z
UID:10000692-1719424800-1719435600@thelocalhub-ic.com
SUMMARY:iLL Nino - 25 Years of Latin Metal at Wildwood Saloon
DESCRIPTION:Metro Concerts Live presents iLL Nino at Wildwood Saloon on their 25 Years of Latin Metal US tour. Joined by Flaw\, A Killers Confession\, Scarlet View\, Dark Agenda and Wyvern.
URL:https://thelocalhub-ic.com/event/ill-nino-25-years-of-latin-metal/
LOCATION:Wildwood Saloon\, 4919 Walleye Dr. SE\, Iowa City\, Iowa\, 52240\, United States
END:VEVENT
BEGIN:VEVENT
DTSTART;TZID=America/Chicago:20240626T183000
DTEND;TZID=America/Chicago:20240626T183000
DTSTAMP:20260420T132405
CREATED:20240624T154130Z
LAST-MODIFIED:20251013T182226Z
UID:10000779-1719426600-1719426600@thelocalhub-ic.com
SUMMARY:Live Music at Copper Boar
DESCRIPTION:Join Copper Boar for an unforgettable summer of music\, food and fun! Featuring local favorites\, their summer lineup is packed with family-friendly entertainment every week. Savor the sounds while you indulge in all your favorite dishes and drinks from their extensive menu! From mouth-watering appetizers to refreshing cocktails\, they’ve got something for everyone. Bring the whole family and experience the best of summer at Copper Boar.
URL:https://thelocalhub-ic.com/event/live-music-at-copper-boar/
LOCATION:Copper Boar\, 575 Cameron Way Unit C.\, North Liberty\, Iowa\, 52317\, United States
CATEGORIES:Family
ATTACH;FMTTYPE=image/png:https://thelocalhub-ic.com/wp-content/uploads/2024/06/Copper-Boar_The-Local-Hub-Iowa-City.png
END:VEVENT
BEGIN:VEVENT
DTSTART;TZID=America/Chicago:20240626T190000
DTEND;TZID=America/Chicago:20240626T213000
DTSTAMP:20260420T132405
CREATED:20240607T124439Z
LAST-MODIFIED:20251013T182226Z
UID:10000691-1719428400-1719437400@thelocalhub-ic.com
SUMMARY:Burlington Street Bluegrass Band
DESCRIPTION:Enjoy the sounds of the Burlington Street Bluegrass Band live at Wildwood Saloon in Iowa City! $5 admission.
URL:https://thelocalhub-ic.com/event/burlington-street-bluegrass-band-2/
LOCATION:Wildwood Saloon\, 4919 Walleye Dr. SE\, Iowa City\, Iowa\, 52240\, United States
END:VEVENT
BEGIN:VEVENT
DTSTART;TZID=America/Chicago:20240626T200000
DTEND;TZID=America/Chicago:20240626T220000
DTSTAMP:20260420T132405
CREATED:20240606T095053Z
LAST-MODIFIED:20251013T182226Z
UID:10000643-1719432000-1719439200@thelocalhub-ic.com
SUMMARY:2 Dogs Pub Bingo Night
DESCRIPTION:Join 2 Dogs Pub for free and cash BINGO games with prizes from 2 Dogs Pub every Wednesday at 8:00pm. Progressive pot cash every week!
URL:https://thelocalhub-ic.com/event/2-dogs-pub-bingo-night-3/
LOCATION:2 Dogs Pub\, 1705 1st. Ave\, Iowa City\, Iowa\, 52240\, United States
CATEGORIES:Free
END:VEVENT
END:VCALENDAR