BEGIN:VCALENDAR
VERSION:2.0
PRODID:-//The Local Hub - ECPv6.15.18//NONSGML v1.0//EN
CALSCALE:GREGORIAN
METHOD:PUBLISH
X-ORIGINAL-URL:https://thelocalhub-ic.com
X-WR-CALDESC:Events for The Local Hub
REFRESH-INTERVAL;VALUE=DURATION:PT1H
X-Robots-Tag:noindex
X-PUBLISHED-TTL:PT1H
BEGIN:VTIMEZONE
TZID:America/Chicago
BEGIN:DAYLIGHT
TZOFFSETFROM:-0600
TZOFFSETTO:-0500
TZNAME:CDT
DTSTART:20230312T080000
END:DAYLIGHT
BEGIN:STANDARD
TZOFFSETFROM:-0500
TZOFFSETTO:-0600
TZNAME:CST
DTSTART:20231105T070000
END:STANDARD
BEGIN:DAYLIGHT
TZOFFSETFROM:-0600
TZOFFSETTO:-0500
TZNAME:CDT
DTSTART:20240310T080000
END:DAYLIGHT
BEGIN:STANDARD
TZOFFSETFROM:-0500
TZOFFSETTO:-0600
TZNAME:CST
DTSTART:20241103T070000
END:STANDARD
BEGIN:DAYLIGHT
TZOFFSETFROM:-0600
TZOFFSETTO:-0500
TZNAME:CDT
DTSTART:20250309T080000
END:DAYLIGHT
BEGIN:STANDARD
TZOFFSETFROM:-0500
TZOFFSETTO:-0600
TZNAME:CST
DTSTART:20251102T070000
END:STANDARD
END:VTIMEZONE
BEGIN:VEVENT
DTSTART;TZID=America/Chicago:20240618T160000
DTEND;TZID=America/Chicago:20240618T183000
DTSTAMP:20260420T132406
CREATED:20240605T120353Z
LAST-MODIFIED:20251013T182228Z
UID:10000627-1718726400-1718735400@thelocalhub-ic.com
SUMMARY:City of Solon Farmers Market
DESCRIPTION:Find your favorite locally sourced goodies at the Solon Farmer’s Market. Fresh from the farm to your table!
URL:https://thelocalhub-ic.com/event/city-of-solon-farmers-market-2/
LOCATION:Mushroom Park\, 110 S. Dubuque St\, Solon\, Iowa\, 52333\, United States
CATEGORIES:Family,Free
ATTACH;FMTTYPE=image/jpeg:https://thelocalhub-ic.com/wp-content/uploads/2024/06/IMG_0633-e1717607247873.jpeg
END:VEVENT
BEGIN:VEVENT
DTSTART;TZID=America/Chicago:20240618T170000
DTEND;TZID=America/Chicago:20240618T200000
DTSTAMP:20260420T132406
CREATED:20240613T094321Z
LAST-MODIFIED:20251013T182228Z
UID:10000740-1718730000-1718740800@thelocalhub-ic.com
SUMMARY:Don’t Quit Your Daydream- Women’s Networking Event
DESCRIPTION:Whether you’re an entrepreneur\, a business professional\, or simply looking to expand your network\, this is the perfect relaxed setting to connect. This event is co-hosted by Monica Ferguson\, owner of CIELO in Coralville and Iowa City\, it is a wonderful opportunity to gather around the fire-pit\, sip a Day Dreamer\, and make connections with local women in business.
URL:https://thelocalhub-ic.com/event/dont-quit-your-daydream-womens-networking-event/
LOCATION:Field Day Brewing Co\, 925 Liberty Way\, North Liberty\, Iowa\, 52317\, United States
CATEGORIES:Free
ATTACH;FMTTYPE=image/png:https://thelocalhub-ic.com/wp-content/uploads/2024/06/Dont-Quit-Your-Daydream_The-Local-Hub-Iowa-City.png
END:VEVENT
BEGIN:VEVENT
DTSTART;TZID=America/Chicago:20240618T173000
DTEND;TZID=America/Chicago:20240618T193000
DTSTAMP:20260420T132406
CREATED:20240603T112440Z
LAST-MODIFIED:20251013T182228Z
UID:10000523-1718731800-1718739000@thelocalhub-ic.com
SUMMARY:College Green Group Ride
DESCRIPTION:40-ish mile drop ride at competitive 20-24 mph average speed. No registration required.
URL:https://thelocalhub-ic.com/event/college-green-group-ride-3/
LOCATION:College Green Park\, 600 E. College St.\, Iowa City\, Iowa\, 52240\, United States
ATTACH;FMTTYPE=image/png:https://thelocalhub-ic.com/wp-content/uploads/2024/06/IMG_0612.png
END:VEVENT
BEGIN:VEVENT
DTSTART;TZID=America/Chicago:20240618T183000
DTEND;TZID=America/Chicago:20240618T200000
DTSTAMP:20260420T132406
CREATED:20240603T112155Z
LAST-MODIFIED:20251013T182228Z
UID:10000495-1718735400-1718740800@thelocalhub-ic.com
SUMMARY:Music on the Move
DESCRIPTION:Enjoy James Tutson at Penn Meadows Park Gazebo tonight! \nSponsored by Martin Construction \nMusic on the Move began as a Truckload of Soul in 2020\, when musician Kevin Burt approached Summer of the Arts about bringing live music to neighborhoods in the midst of a pandemic. In the back of a pickup truck\, he played his guitar for some much-needed sound! The idea went over so well that we decided to bring back the concept every week during June\, July\, and August.
URL:https://thelocalhub-ic.com/event/music-on-the-move-3/
LOCATION:Penn Meadows Park\, 310 N Dubuque St\, North Liberty\, Iowa\, 52317\, United States
CATEGORIES:Free
END:VEVENT
BEGIN:VEVENT
DTSTART;TZID=America/Chicago:20240618T190000
DTEND;TZID=America/Chicago:20240618T210000
DTSTAMP:20260420T132406
CREATED:20240603T112440Z
LAST-MODIFIED:20251013T182228Z
UID:10000524-1718737200-1718744400@thelocalhub-ic.com
SUMMARY:Trivia & Musical Bingo at The Vue
DESCRIPTION:Eat\, drink and tease your brain! Rally your team to win prizes on the 3rd Tuesday of every month. Our topics range from pop culture to other academic areas. There is a little something everyone. Beyond the questions we also have visual aids and music to enhance the experience. You’ll be entertained the whole time you play!
URL:https://thelocalhub-ic.com/event/trivia-musical-bingo-at-the-vue/
LOCATION:Vue Rooftop\, 328 S Clinton St Suite A\, Iowa City\, IA\, 52240\, United States
END:VEVENT
END:VCALENDAR