BEGIN:VCALENDAR
VERSION:2.0
PRODID:-//The Local Hub - ECPv6.15.18//NONSGML v1.0//EN
CALSCALE:GREGORIAN
METHOD:PUBLISH
X-WR-CALNAME:The Local Hub
X-ORIGINAL-URL:https://thelocalhub-ic.com
X-WR-CALDESC:Events for The Local Hub
REFRESH-INTERVAL;VALUE=DURATION:PT1H
X-Robots-Tag:noindex
X-PUBLISHED-TTL:PT1H
BEGIN:VTIMEZONE
TZID:America/Chicago
BEGIN:DAYLIGHT
TZOFFSETFROM:-0600
TZOFFSETTO:-0500
TZNAME:CDT
DTSTART:20230312T080000
END:DAYLIGHT
BEGIN:STANDARD
TZOFFSETFROM:-0500
TZOFFSETTO:-0600
TZNAME:CST
DTSTART:20231105T070000
END:STANDARD
BEGIN:DAYLIGHT
TZOFFSETFROM:-0600
TZOFFSETTO:-0500
TZNAME:CDT
DTSTART:20240310T080000
END:DAYLIGHT
BEGIN:STANDARD
TZOFFSETFROM:-0500
TZOFFSETTO:-0600
TZNAME:CST
DTSTART:20241103T070000
END:STANDARD
BEGIN:DAYLIGHT
TZOFFSETFROM:-0600
TZOFFSETTO:-0500
TZNAME:CDT
DTSTART:20250309T080000
END:DAYLIGHT
BEGIN:STANDARD
TZOFFSETFROM:-0500
TZOFFSETTO:-0600
TZNAME:CST
DTSTART:20251102T070000
END:STANDARD
END:VTIMEZONE
BEGIN:VEVENT
DTSTART;VALUE=DATE:20240615
DTEND;VALUE=DATE:20240618
DTSTAMP:20260420T132347
CREATED:20240601T084032Z
LAST-MODIFIED:20251013T182229Z
UID:10000140-1718409600-1718668799@thelocalhub-ic.com
SUMMARY:North Liberty Garage Sales
DESCRIPTION:An epic annual city-wide shopping event in the North Liberty\, Iowa area! \nKnown for being super organized and easy to find what you’re looking for\, this event delivers over 200+ garage sales in one town on a single weekend. The master list of sales will be available for download on June 12\, 2024.
URL:https://thelocalhub-ic.com/event/north-liberty-garage-sales/
LOCATION:Iowa
CATEGORIES:Family,Free
ATTACH;FMTTYPE=image/png:https://thelocalhub-ic.com/wp-content/uploads/2024/06/North-Liberty-Garage-Sale_The-Local-Hub-Iowa-City.png
END:VEVENT
BEGIN:VEVENT
DTSTART;VALUE=DATE:20240616
DTEND;VALUE=DATE:20240617
DTSTAMP:20260420T132347
CREATED:20240601T084032Z
LAST-MODIFIED:20251013T182229Z
UID:10000141-1718496000-1718582399@thelocalhub-ic.com
SUMMARY:North Liberty Garage Sales
DESCRIPTION:An epic annual city-wide shopping event in the North Liberty\, Iowa area!
URL:https://thelocalhub-ic.com/event/north-liberty-garage-sales-2/
LOCATION:Iowa
END:VEVENT
BEGIN:VEVENT
DTSTART;TZID=America/Chicago:20240616T090000
DTEND;TZID=America/Chicago:20240616T210000
DTSTAMP:20260420T132347
CREATED:20240614T105631Z
LAST-MODIFIED:20251013T182229Z
UID:10000761-1718528400-1718571600@thelocalhub-ic.com
SUMMARY:U-Pick Strawberry Season
DESCRIPTION:Strawberry Season continues at Wilson’s Orchard & Farm! Guests can visit the farm and pick their own fresh berries right off the vine from Wednesdays-Sunday throughout the month of June. Wilson’s Orchard provides the baskets\, you provide the smiles! \nThere are a limited number of berries available\, and they will be sure to update if/when they are closing the patch to allow more berries to ripen so stay up-to-date by following on social media.
URL:https://thelocalhub-ic.com/event/u-pick-strawberry-season/2024-06-16/
LOCATION:Wilson’s Orchard & Farm\, 4823 Dingleberry Rd. NE #1\, Iowa City\, Iowa\, 52240\, United States
CATEGORIES:Family
END:VEVENT
BEGIN:VEVENT
DTSTART;TZID=America/Chicago:20240616T193000
DTEND;TZID=America/Chicago:20240616T220000
DTSTAMP:20260420T132347
CREATED:20240613T094322Z
LAST-MODIFIED:20251013T182229Z
UID:10000746-1718566200-1718575200@thelocalhub-ic.com
SUMMARY:Free Summer Shakespeare: Julius Caesar
DESCRIPTION:Riverside Theatre\, Iowa City’s resident professional theatre\, is thrilled to announce its upcoming FREE production of Julius Caesar\, Shakespeare’s iconic Roman tragedy\, running for three weeks in Lower City Park\, June 14th through June 30th\, 2024.
URL:https://thelocalhub-ic.com/event/free-summer-shakespeare-julius-caesar/2024-06-16/
LOCATION:Lower City Park\, 119 E. College St\, Iowa City\, Iowa\, 52240\, United States
CATEGORIES:Free
ATTACH;FMTTYPE=image/png:https://thelocalhub-ic.com/wp-content/uploads/2024/06/Julius-Caesar_The-Local-Hub-Iowa-City.png
END:VEVENT
END:VCALENDAR