BEGIN:VCALENDAR
VERSION:2.0
PRODID:-//The Local Hub - ECPv6.15.18//NONSGML v1.0//EN
CALSCALE:GREGORIAN
METHOD:PUBLISH
X-WR-CALNAME:The Local Hub
X-ORIGINAL-URL:https://thelocalhub-ic.com
X-WR-CALDESC:Events for The Local Hub
REFRESH-INTERVAL;VALUE=DURATION:PT1H
X-Robots-Tag:noindex
X-PUBLISHED-TTL:PT1H
BEGIN:VTIMEZONE
TZID:America/Chicago
BEGIN:DAYLIGHT
TZOFFSETFROM:-0600
TZOFFSETTO:-0500
TZNAME:CDT
DTSTART:20230312T080000
END:DAYLIGHT
BEGIN:STANDARD
TZOFFSETFROM:-0500
TZOFFSETTO:-0600
TZNAME:CST
DTSTART:20231105T070000
END:STANDARD
BEGIN:DAYLIGHT
TZOFFSETFROM:-0600
TZOFFSETTO:-0500
TZNAME:CDT
DTSTART:20240310T080000
END:DAYLIGHT
BEGIN:STANDARD
TZOFFSETFROM:-0500
TZOFFSETTO:-0600
TZNAME:CST
DTSTART:20241103T070000
END:STANDARD
BEGIN:DAYLIGHT
TZOFFSETFROM:-0600
TZOFFSETTO:-0500
TZNAME:CDT
DTSTART:20250309T080000
END:DAYLIGHT
BEGIN:STANDARD
TZOFFSETFROM:-0500
TZOFFSETTO:-0600
TZNAME:CST
DTSTART:20251102T070000
END:STANDARD
END:VTIMEZONE
BEGIN:VEVENT
DTSTART;TZID=America/Chicago:20240614T210000
DTEND;TZID=America/Chicago:20240615T010000
DTSTAMP:20260420T132346
CREATED:20240601T093657Z
LAST-MODIFIED:20251013T182229Z
UID:10000145-1718398800-1718413200@thelocalhub-ic.com
SUMMARY:Salsa Night
DESCRIPTION:DJ Edwin Alvarado will be playing your favorite Latino music! Don’t miss your chance to havea lot of fun and enjoy some of the best drinks from the best “Vue”!
URL:https://thelocalhub-ic.com/event/salsa-night/
LOCATION:Iowa
END:VEVENT
BEGIN:VEVENT
DTSTART;TZID=America/Chicago:20240614T220000
DTEND;TZID=America/Chicago:20240615T010000
DTSTAMP:20260420T132346
CREATED:20240611T110859Z
LAST-MODIFIED:20251013T182229Z
UID:10000728-1718402400-1718413200@thelocalhub-ic.com
SUMMARY:Justin Holt Band at Elray’s
DESCRIPTION:Listen to your favorite songs live as the Justin Holt Band hits the Elray’s stage to keep the dance floors rockin’ all night long!
URL:https://thelocalhub-ic.com/event/justin-holt-band-at-elrays/
LOCATION:Elray’s Live & Dive\, 211 Iowa Ave\, Iowa City\, Iowa\, 52240\, United States
CATEGORIES:Nightlife
END:VEVENT
BEGIN:VEVENT
DTSTART;VALUE=DATE:20240615
DTEND;VALUE=DATE:20240618
DTSTAMP:20260420T132346
CREATED:20240601T084032Z
LAST-MODIFIED:20251013T182229Z
UID:10000140-1718409600-1718668799@thelocalhub-ic.com
SUMMARY:North Liberty Garage Sales
DESCRIPTION:An epic annual city-wide shopping event in the North Liberty\, Iowa area! \nKnown for being super organized and easy to find what you’re looking for\, this event delivers over 200+ garage sales in one town on a single weekend. The master list of sales will be available for download on June 12\, 2024.
URL:https://thelocalhub-ic.com/event/north-liberty-garage-sales/
LOCATION:Iowa
CATEGORIES:Family,Free
ATTACH;FMTTYPE=image/png:https://thelocalhub-ic.com/wp-content/uploads/2024/06/North-Liberty-Garage-Sale_The-Local-Hub-Iowa-City.png
END:VEVENT
BEGIN:VEVENT
DTSTART;TZID=America/Chicago:20240615T073000
DTEND;TZID=America/Chicago:20240615T120000
DTSTAMP:20260420T132346
CREATED:20240603T112425Z
LAST-MODIFIED:20251013T182229Z
UID:10000520-1718436600-1718452800@thelocalhub-ic.com
SUMMARY:Iowa City Farmers Market
DESCRIPTION:The Iowa City Farmers Market is managed by the Iowa City Parks and Recreation Department. It is an open-aired market held in the Chauncey Swan parking ramp. The market runs May-October to provide access to fresh\, locally produced products.
URL:https://thelocalhub-ic.com/event/iowa-city-farmers-market-3/
LOCATION:Iowa City Farmers Market\, 405 E Washington St\, Iowa City\, IA\, 52240\, United States
END:VEVENT
BEGIN:VEVENT
DTSTART;TZID=America/Chicago:20240615T100000
DTEND;TZID=America/Chicago:20240615T150000
DTSTAMP:20260420T132346
CREATED:20240603T112440Z
LAST-MODIFIED:20251013T182229Z
UID:10000521-1718445600-1718463600@thelocalhub-ic.com
SUMMARY:Rent a Bench
DESCRIPTION:Need to work on your own bike\, but need the tools and space to do it? Rent-a-bench is the place for you. Bike Library Volunteers will not perform repairs but depending on the volunteers staffed\, may be able to answer questions.
URL:https://thelocalhub-ic.com/event/rent-a-bench-2/
LOCATION:Iowa City Bike Library\, 1222 S Gilbert Ct\, Iowa City\, Iowa\, 52240\, United States
END:VEVENT
BEGIN:VEVENT
DTSTART;TZID=America/Chicago:20240615T120000
DTEND;TZID=America/Chicago:20240615T140000
DTSTAMP:20260420T132346
CREATED:20240611T110857Z
LAST-MODIFIED:20251013T182229Z
UID:10000722-1718452800-1718460000@thelocalhub-ic.com
SUMMARY:Trucker Hat Bar and Add a Charm at Radiant Boutique by Rhi
DESCRIPTION:Help Radiant Boutique by Rhi and Linkd by Lindsey celebrate the launch of new fun things! Radiant Boutique just launched their new super cute trucker hat bar and Linkd by Lindsey now has charms you can add to your permanent jewelry! The Truck Hat Bar is $39 unlimited everything on your hat and you can add a charm to your permanent jewelry for $15.
URL:https://thelocalhub-ic.com/event/trucker-hat-bar-and-add-a-charm-at-radiant-boutique-by-rhi/
LOCATION:Radiant Boutique by Rhi\, 720 Pacha Parkway Suite 4\, North Liberty\, Iowa\, 52317\, United States
ORGANIZER;CN="Radiant Boutique by Rhi":MAILTO:Radiantbyrhi@gmail.com
END:VEVENT
BEGIN:VEVENT
DTSTART;TZID=America/Chicago:20240615T120000
DTEND;TZID=America/Chicago:20240615T160000
DTSTAMP:20260420T132346
CREATED:20240613T094321Z
LAST-MODIFIED:20251013T182229Z
UID:10000739-1718452800-1718467200@thelocalhub-ic.com
SUMMARY:Backpocket Brewing Celebrates Their 12 Year Anniversary!
DESCRIPTION:Help Backpocket Brewery celebrate their 12 year anniversary! Bring your friends and family for a day of fun – Doors open at 11am for bottle sales\, there will be some beer releases you DON’T want to miss. \nFrom 12-4pm there will be food trucks\, face painting\, kids activities\, a pin release and The Detour Band from 1pm-4pm.
URL:https://thelocalhub-ic.com/event/backpocket-brewing-celebrates-their-12-year-anniversary/
LOCATION:Backpocket Brewery\, 903 Quarry Rd.\, Coralville\, Iowa\, 52241\, United States
CATEGORIES:Family
ATTACH;FMTTYPE=image/png:https://thelocalhub-ic.com/wp-content/uploads/2024/06/Backpocket-Brewery_The-Local-Hub-Iowa-City.png
END:VEVENT
BEGIN:VEVENT
DTSTART;TZID=America/Chicago:20240615T120000
DTEND;TZID=America/Chicago:20240615T220000
DTSTAMP:20260420T132346
CREATED:20240611T110859Z
LAST-MODIFIED:20251013T182229Z
UID:10000729-1718452800-1718488800@thelocalhub-ic.com
SUMMARY:Iowa City Pride Parade & Festival
DESCRIPTION:2024 Pride Festival & Parade takes place in the beautiful Downtown Iowa City area! Come down for a number of vendors\, celebrating queer existence and the shows that come along with the party! Parade & Festival vendor booths start at 12PM. MainStage opens at 1PM.
URL:https://thelocalhub-ic.com/event/iowa-city-pride-parade-festival/
LOCATION:Downtown Iowa City\, 315 S. Gilbert St.\, Iowa City\, Iowa\, 52240\, United States
CATEGORIES:Free
END:VEVENT
BEGIN:VEVENT
DTSTART;TZID=America/Chicago:20240615T190000
DTEND;TZID=America/Chicago:20240615T230000
DTSTAMP:20260420T132346
CREATED:20240607T124426Z
LAST-MODIFIED:20251013T182229Z
UID:10000687-1718478000-1718492400@thelocalhub-ic.com
SUMMARY:Drake Milligan w/ Linc Henriksen & The Drifters
DESCRIPTION:First Fleet Concerts presents Drake Milligan at Wildwood Saloon with Linc Henriksen & The Drifters.
URL:https://thelocalhub-ic.com/event/drake-milligan-w-linc-henriksen-the-drifters/
LOCATION:Wildwood Saloon\, 4919 Walleye Dr. SE\, Iowa City\, Iowa\, 52240\, United States
END:VEVENT
BEGIN:VEVENT
DTSTART;TZID=America/Chicago:20240615T210000
DTEND;TZID=America/Chicago:20240615T230000
DTSTAMP:20260420T132346
CREATED:20240601T093700Z
LAST-MODIFIED:20251013T182229Z
UID:10000486-1718485200-1718492400@thelocalhub-ic.com
SUMMARY:Free Movie Series
DESCRIPTION:The Free Movie Series typically features full-length movies on Saturday nights during the summer. Movies start at sundown\, so check the website for approximate start times. \n  \nTonight’s showing: The Tooth Fairy
URL:https://thelocalhub-ic.com/event/free-movie-series/
LOCATION:James Alan McPherson Park\, 1858 7th Ave Ct\, Iowa City\, Iowa\, 52240\, United States
END:VEVENT
BEGIN:VEVENT
DTSTART;TZID=America/Chicago:20240615T220000
DTEND;TZID=America/Chicago:20240616T000000
DTSTAMP:20260420T132346
CREATED:20240611T110914Z
LAST-MODIFIED:20251013T182229Z
UID:10000730-1718488800-1718496000@thelocalhub-ic.com
SUMMARY:Iowa City Pride Afties: Ms. White w/ Josiah Scherr Kang
DESCRIPTION:IC Pride and The Englert present a special “Pride Show Afties” featuring jazz-pop singer Ms. White and Iowa City’s own Josiah Scherr Kang! After enjoying all the music\, festivities\, and more at Iowa City Pride Festival\, come to the Englert at 10pm for a special intimate on-stage performance\, where audience and performer share the stage. See ya for Pride on June 15th!
URL:https://thelocalhub-ic.com/event/iowa-city-pride-afties-ms-white-w-josiah-scherr-kang/
LOCATION:The Englert Theatre\, 221 E Washington St.\, Iowa City\, Iowa\, 52240\, United States
CATEGORIES:Free,Nightlife
END:VEVENT
END:VCALENDAR