BEGIN:VCALENDAR
VERSION:2.0
PRODID:-//The Local Hub - ECPv6.15.18//NONSGML v1.0//EN
CALSCALE:GREGORIAN
METHOD:PUBLISH
X-ORIGINAL-URL:https://thelocalhub-ic.com
X-WR-CALDESC:Events for The Local Hub
REFRESH-INTERVAL;VALUE=DURATION:PT1H
X-Robots-Tag:noindex
X-PUBLISHED-TTL:PT1H
BEGIN:VTIMEZONE
TZID:America/Chicago
BEGIN:DAYLIGHT
TZOFFSETFROM:-0600
TZOFFSETTO:-0500
TZNAME:CDT
DTSTART:20230312T080000
END:DAYLIGHT
BEGIN:STANDARD
TZOFFSETFROM:-0500
TZOFFSETTO:-0600
TZNAME:CST
DTSTART:20231105T070000
END:STANDARD
BEGIN:DAYLIGHT
TZOFFSETFROM:-0600
TZOFFSETTO:-0500
TZNAME:CDT
DTSTART:20240310T080000
END:DAYLIGHT
BEGIN:STANDARD
TZOFFSETFROM:-0500
TZOFFSETTO:-0600
TZNAME:CST
DTSTART:20241103T070000
END:STANDARD
BEGIN:DAYLIGHT
TZOFFSETFROM:-0600
TZOFFSETTO:-0500
TZNAME:CDT
DTSTART:20250309T080000
END:DAYLIGHT
BEGIN:STANDARD
TZOFFSETFROM:-0500
TZOFFSETTO:-0600
TZNAME:CST
DTSTART:20251102T070000
END:STANDARD
END:VTIMEZONE
BEGIN:VEVENT
DTSTART;TZID=America/Chicago:20240612T163000
DTEND;TZID=America/Chicago:20240612T183000
DTSTAMP:20260420T132406
CREATED:20240601T093700Z
LAST-MODIFIED:20251013T182230Z
UID:10000485-1718209800-1718217000@thelocalhub-ic.com
SUMMARY:Coralville Farmer’s Market
DESCRIPTION:Discover fresh baked goods\, local produce\, flowers\, honey\, wine\, handmade arts & crafts\, jewelry\, and more! Swing by for family fun and catch live performance from Steve Kalmess.
URL:https://thelocalhub-ic.com/event/coralville-farmers-market-2/
LOCATION:Iowa River Landing\, 801 E 2nd Ave\, Coralville\, Iowa\, 52241\, United States
CATEGORIES:Family,Free
ATTACH;FMTTYPE=image/png:https://thelocalhub-ic.com/wp-content/uploads/2024/06/Coralville-Farmers-Market_Iowa-River-Landing_The-Local-Hub-Iowa-City.png
END:VEVENT
BEGIN:VEVENT
DTSTART;TZID=America/Chicago:20240612T190000
DTEND;TZID=America/Chicago:20240612T213000
DTSTAMP:20260420T132406
CREATED:20240607T124424Z
LAST-MODIFIED:20251013T182230Z
UID:10000685-1718218800-1718227800@thelocalhub-ic.com
SUMMARY:Burlington Street Bluegrass Band
DESCRIPTION:Enjoy the sounds of the Burlington Street Bluegrass Band live at Wildwood Saloon in Iowa City! $5 admission.
URL:https://thelocalhub-ic.com/event/burlington-street-bluegrass-band/
LOCATION:Wildwood Saloon\, 4919 Walleye Dr. SE\, Iowa City\, Iowa\, 52240\, United States
END:VEVENT
BEGIN:VEVENT
DTSTART;TZID=America/Chicago:20240612T200000
DTEND;TZID=America/Chicago:20240612T220000
DTSTAMP:20260420T132406
CREATED:20240606T095053Z
LAST-MODIFIED:20251013T182230Z
UID:10000641-1718222400-1718229600@thelocalhub-ic.com
SUMMARY:2 Dogs Pub Bingo Night
DESCRIPTION:Join 2 Dogs Pub for free and cash BINGO games with prizes from 2 Dogs Pub every Wednesday at 8:00pm. Progressive cash pot every week!
URL:https://thelocalhub-ic.com/event/2-dogs-pub-bingo-night/
LOCATION:2 Dogs Pub\, 1705 1st. Ave\, Iowa City\, Iowa\, 52240\, United States
CATEGORIES:Free
END:VEVENT
END:VCALENDAR